BEGIN:VCALENDAR
VERSION:2.0
PRODID:-//Sabre//Sabre VObject 4.5.7//EN
CALSCALE:GREGORIAN
BEGIN:VEVENT
UID:sabre-vobject-1d7be2d7-609d-43d9-9eeb-858cddef6039
DTSTAMP:20260421T180930Z
SUMMARY:British Marine Passenger Boat Association Committee Meeting
DESCRIPTION:Date: Wednesday 22nd January 2025\n\nWhere: Zoom\n\nTime: 10.00
  - 12.00\n\nContact: ljupp@britishmarine.co.uk\n\n&nbsp\;\n
X-ALT-DESC:FMTTYPE=text/html:<!DOCTYPE HTML PUBLIC "-//W3C//DTD HTML 3.2//E
 N"><HTML><p>Date: Wednesday 22nd January 2025</p>\n\n<p>Where: Zoom</p>\n\
 n<p>Time: 10.00 - 12.00</p>\n\n<p>Contact: ljupp@britishmarine.co.uk</p>\n
 \n<p>&nbsp\;</p>\n</HTML>
CREATED;TZID=Europe/London:20241122T114310
URL;VALUE=URI:https://www.britishmarine.co.uk/membership/events-and-courses
 /passenger-boat-association-committee-meeting-1
DTSTART;TZID=Europe/London:20250122T000000
DTEND;TZID=Europe/London:20250122T235959
SEQUENCE:0
END:VEVENT
END:VCALENDAR
