BEGIN:VCALENDAR
VERSION:2.0
PRODID:-//Sabre//Sabre VObject 4.5.7//EN
CALSCALE:GREGORIAN
BEGIN:VEVENT
UID:sabre-vobject-cf30a6de-8a54-4d96-a5bf-763e1da38c49
DTSTAMP:20260421T034523Z
SUMMARY:British Marine Professional Services Association Committee Meeting
DESCRIPTION:Date: Friday 28th February 2025\n\nWhere: Zoom\n\nTime: 11.00 -
  11.30\n\nContact: ljupp@britishmarine.co.uk\n
X-ALT-DESC:FMTTYPE=text/html:<!DOCTYPE HTML PUBLIC "-//W3C//DTD HTML 3.2//E
 N"><HTML><p>Date: Friday 28th February 2025</p>\n\n<p>Where: Zoom</p>\n\n<
 p>Time: 11.00 - 11.30</p>\n\n<p>Contact: ljupp@britishmarine.co.uk</p>\n</
 HTML>
CREATED;TZID=Europe/London:20250205T165601
URL;VALUE=URI:https://www.britishmarine.co.uk/events-and-courses/british-ma
 rine-professional-services-association-committee-meeting-1
DTSTART;TZID=Europe/London:20250228T000000
DTEND;TZID=Europe/London:20250228T235959
SEQUENCE:0
END:VEVENT
END:VCALENDAR
