BEGIN:VCALENDAR
VERSION:2.0
PRODID:-//Sabre//Sabre VObject 4.5.7//EN
CALSCALE:GREGORIAN
BEGIN:VEVENT
UID:sabre-vobject-d7f58d25-1ee5-4eb1-a76d-9dd482650613
DTSTAMP:20260421T180732Z
SUMMARY:British Marine Professional Services Committee Meeting & AGM
DESCRIPTION:Date: Thursday 18th September 2025\n\nWhere: Southampton Intern
 ational Boat Show 2025\n\nTime: 10.00 - 12.00\n\nContact: ljupp@britishmar
 ine.co.uk\n
X-ALT-DESC:FMTTYPE=text/html:<!DOCTYPE HTML PUBLIC "-//W3C//DTD HTML 3.2//E
 N"><HTML><p>Date: Thursday 18th September 2025</p>\n\n<p>Where: Southampto
 n International Boat Show 2025</p>\n\n<p>Time: 10.00 - 12.00</p>\n\n<p>Con
 tact: ljupp@britishmarine.co.uk</p>\n</HTML>
CREATED;TZID=Europe/London:20240903T121235
URL;VALUE=URI:https://www.britishmarine.co.uk/membership/events-and-courses
 /british-marine-professional-services-committee-meeting-and-agm
DTSTART;TZID=Europe/London:20250918T000000
DTEND;TZID=Europe/London:20250918T235959
SEQUENCE:0
END:VEVENT
END:VCALENDAR
