BEGIN:VCALENDAR
VERSION:2.0
PRODID:-//Sabre//Sabre VObject 4.5.7//EN
CALSCALE:GREGORIAN
BEGIN:VEVENT
UID:sabre-vobject-d1163b49-47f7-4401-a25f-655af8943bd9
DTSTAMP:20260421T180838Z
SUMMARY:British Marine Propulsion & Equipment Association Committee Meeting
DESCRIPTION:Date: Wednesday 25th June 2025\n\nWhere: Zoom\n\nTime: 10.00 - 
 12.00\n\nContact: ljupp@britishmarine.co.uk\n
X-ALT-DESC:FMTTYPE=text/html:<!DOCTYPE HTML PUBLIC "-//W3C//DTD HTML 3.2//E
 N"><HTML><p>Date: Wednesday 25th June 2025</p>\n\n<p>Where: Zoom</p>\n\n<p
 >Time: 10.00 - 12.00</p>\n\n<p>Contact: <a href="mailto:ljupp@british">lju
 pp@british</a>marine.co.uk</p>\n</HTML>
CREATED;TZID=Europe/London:20240903T122011
URL;VALUE=URI:https://www.britishmarine.co.uk/membership/events-and-courses
 /british-marine-propulsion-and-equipment-association-committee-meeting-1
DTSTART;TZID=Europe/London:20250625T000000
DTEND;TZID=Europe/London:20250625T235959
SEQUENCE:0
END:VEVENT
END:VCALENDAR
