BEGIN:VCALENDAR
VERSION:2.0
PRODID:-//Sabre//Sabre VObject 4.5.7//EN
CALSCALE:GREGORIAN
BEGIN:VEVENT
UID:sabre-vobject-d9f22f6e-b3fe-430c-be84-52ea43177a2b
DTSTAMP:20260421T181531Z
SUMMARY:British Marine Boat Retailers and Brokers Association Committee Mee
 ting
DESCRIPTION:The committee of British Marine Boat Retailers and Brokers Asso
 ciation will be meeting to discuss ongoing projects and plans for the sect
 or.&nbsp\;\n\nFor further information\, please contact secretary Beckie Ha
 rris on&nbsp\;bharris@britishmarine.co.uk\n
X-ALT-DESC:FMTTYPE=text/html:<!DOCTYPE HTML PUBLIC "-//W3C//DTD HTML 3.2//E
 N"><HTML><p>The committee of British Marine Boat Retailers and Brokers Ass
 ociation will be meeting to discuss ongoing projects and plans for the sec
 tor.&nbsp\;</p>\n\n<p>For further information\, please contact secretary B
 eckie Harris on&nbsp\;<a aria-label="Link bharris@britishmarine.co.uk" hre
 f="mailto:bharris@britishmarine.co.uk" id="menurs7" rel="noreferrer noopen
 er" target="_blank" title="mailto:bharris@britishmarine.co.uk">bharris@bri
 tishmarine.co.uk</a></p>\n</HTML>
CREATED;TZID=Europe/London:20250424T151506
URL;VALUE=URI:https://www.britishmarine.co.uk/membership/events-and-courses
 /british-marine-boat-retailers-and-brokers-association-committee-meeting-1
DTSTART;TZID=Europe/London:20250521T100000
DTEND;TZID=Europe/London:20250521T120000
SEQUENCE:0
END:VEVENT
END:VCALENDAR
