BEGIN:VCALENDAR
VERSION:2.0
PRODID:-//Sabre//Sabre VObject 4.5.7//EN
CALSCALE:GREGORIAN
BEGIN:VEVENT
UID:sabre-vobject-7b9ce9ff-9cac-4d9b-9eae-36077cecba10
DTSTAMP:20260421T175432Z
SUMMARY:Recreational Craft Regulations (RCR) Awareness- Online
DESCRIPTION:Designed to increase and expand your knowledge of how to meet t
 he requirements of the post Brexit Recreational Craft Regulations\, and as
 sist your ability to manufacture\, import and sell legally compliant produ
 cts.\n\nYou will learn extensive and up to date information on the RCR and
  the associated International Standards\, to help bring you up to date on 
 the latest legislation.\n
X-ALT-DESC:FMTTYPE=text/html:<!DOCTYPE HTML PUBLIC "-//W3C//DTD HTML 3.2//E
 N"><HTML><p>Designed to increase and expand your knowledge of how to meet 
 the requirements of the post Brexit Recreational Craft Regulations\, and a
 ssist your ability to manufacture\, import and sell legally compliant prod
 ucts.</p>\n\n<p>You will learn extensive and up to date information on the
  RCR and the associated International Standards\, to help bring you up to 
 date on the latest legislation.</p>\n</HTML>
CREATED;TZID=Europe/London:20240328T164156
URL;VALUE=URI:https://www.britishmarine.co.uk/training/our-courses/recreati
 onal-craft-regulations-awareness-1
DTSTART;TZID=Europe/London:20240312T100000
DTEND;TZID=Europe/London:20240312T160000
SEQUENCE:0
END:VEVENT
END:VCALENDAR
