BEGIN:VCALENDAR
VERSION:2.0
PRODID:-//Sabre//Sabre VObject 4.5.7//EN
CALSCALE:GREGORIAN
BEGIN:VEVENT
UID:sabre-vobject-22b0ee6b-ae15-4886-a6bc-a8db372606ca
DTSTAMP:20260420T130235Z
SUMMARY:British Marine South West Christmas Do
DESCRIPTION:For more information\, please follow this link:&nbsp\;British M
 arine South West Christmas Brewery Tour Tickets\, Thu\, Dec 12\, 2024 at 6
 :00 PM | Eventbrite\n\nContact Beckie for details - bharris@britishmarine.
 co.uk\n
X-ALT-DESC:FMTTYPE=text/html:<!DOCTYPE HTML PUBLIC "-//W3C//DTD HTML 3.2//E
 N"><HTML><p>For more information\, please follow this link:&nbsp\;<a href=
 "https://www.eventbrite.com/e/british-marine-south-west-christmas-brewery-
 tour-tickets-1047951791017?aff=oddtdtcreator">British Marine South West Ch
 ristmas Brewery Tour Tickets\, Thu\, Dec 12\, 2024 at 6:00 PM | Eventbrite
 </a></p>\n\n<p>Contact Beckie for details - bharris@britishmarine.co.uk</p
 >\n</HTML>
CREATED;TZID=Europe/London:20241105T124040
URL;VALUE=URI:https://www.britishmarine.co.uk/events-and-courses/british-ma
 rine-south-west-christmas-do
DTSTART;TZID=Europe/London:20241212T180000
DTEND;TZID=Europe/London:20241212T230000
SEQUENCE:0
END:VEVENT
END:VCALENDAR
