BEGIN:VCALENDAR
VERSION:2.0
PRODID:-//Sabre//Sabre VObject 4.5.7//EN
CALSCALE:GREGORIAN
BEGIN:VEVENT
UID:sabre-vobject-6c6a6565-ec9d-4f89-98e8-293b3b249be8
DTSTAMP:20260421T180320Z
SUMMARY:Passenger Boat Association Drop-In Session
DESCRIPTION:Date: Thursday 12th December 2024\n\nWhere: Zoom\n\nTime: 15.00
  - 15.45\n\nContact: ljupp@britishmarine.co.uk\n
X-ALT-DESC:FMTTYPE=text/html:<!DOCTYPE HTML PUBLIC "-//W3C//DTD HTML 3.2//E
 N"><HTML><p>Date: Thursday 12th December 2024</p>\n\n<p>Where: Zoom</p>\n\
 n<p>Time: 15.00 - 15.45</p>\n\n<p>Contact: ljupp@britishmarine.co.uk</p>\n
 </HTML>
CREATED;TZID=Europe/London:20241031T153545
URL;VALUE=URI:https://www.britishmarine.co.uk/membership/events-and-courses
 /passenger-boat-association-drop-session
DTSTART;TZID=Europe/London:20241212T000000
DTEND;TZID=Europe/London:20241212T235959
SEQUENCE:0
END:VEVENT
END:VCALENDAR
