BEGIN:VCALENDAR
VERSION:2.0
PRODID:-//Sabre//Sabre VObject 4.5.7//EN
CALSCALE:GREGORIAN
BEGIN:VEVENT
UID:sabre-vobject-e6b75855-c7c3-4736-b537-4a36ba5e9f94
DTSTAMP:20260420T153752Z
SUMMARY:Commercial Marine Drop-In Session
DESCRIPTION:Join us for a drop-in session exclusively for Commercial Marine
  members at 3.00pm on Wednesday 15th January 2025. This session will be on
  Zoom and the link to attend the meeting is below.\n\nWe value your input 
 and encourage you to bring any questions or concerns you may have. This is
  a great opportunity to engage with fellow members and some of the Commerc
 ial Marine Committee.\n\nMeeting Agenda:\n2025 Events\nState of the Indust
 ry\nQ&amp\;A session with the Commercial Marine Committee and Chair\n\nPle
 ase feel free to drop in and out at any time as it is very informal.\n\nWe
  look forward to your participation.\n\nJoin Zoom Meeting\nhttps://us02web
 .zoom.us/j/85105966838?pwd=sQlDaLgyXv8obgY2fIEtxtyz8J4BFF.1\n\nMeeting ID:
  851 0596 6838\nPasscode: 472413\n\nDate: Wednesday 15th January\n\nWhere:
  Zoom\n\nTime: 15.00 - 15.45\n\nContact: ljupp@britishmarine.co.uk\n
X-ALT-DESC:FMTTYPE=text/html:<!DOCTYPE HTML PUBLIC "-//W3C//DTD HTML 3.2//E
 N"><HTML><p>Join us for a drop-in session exclusively for Commercial Marin
 e members at 3.00pm on Wednesday 15th January 2025. This session will be o
 n Zoom and the link to attend the meeting is below.<br />\n<br />\nWe valu
 e your input and encourage you to bring any questions or concerns you may 
 have. This is a great opportunity to engage with fellow members and some o
 f the Commercial Marine Committee.<br />\n<br />\n<strong>Meeting Agenda:<
 /strong><br />\n2025 Events<br />\nState of the Industry<br />\nQ&amp\;A s
 ession with the Commercial Marine Committee and Chair<br />\n<br />\nPleas
 e feel free to drop in and out at any time as it is very informal.<br />\n
 <br />\nWe look forward to your participation.<br />\n<br />\n<strong>Join
  Zoom Meeting</strong><br />\n<a data-auth="NotApplicable" data-linkindex=
 "0" href="https://us02web.zoom.us/j/85105966838?pwd=sQlDaLgyXv8obgY2fIEtxt
 yz8J4BFF.1" title="https://us02web.zoom.us/j/85105966838?pwd=sQlDaLgyXv8ob
 gY2fIEtxtyz8J4BFF.1">https://us02web.zoom.us/j/85105966838?pwd=sQlDaLgyXv8
 obgY2fIEtxtyz8J4BFF.1</a><br />\n<br />\nMeeting ID: 851 0596 6838<br />\n
 Passcode: 472413</p>\n\n<p><strong>Date:</strong> Wednesday 15th January</
 p>\n\n<p><strong>Where:</strong> Zoom</p>\n\n<p><strong>Time: </strong>15.
 00 - 15.45</p>\n\n<p><strong>Contact:</strong> ljupp@britishmarine.co.uk</
 p>\n</HTML>
CREATED;TZID=Europe/London:20250107T150407
URL;VALUE=URI:https://www.britishmarine.co.uk/events-and-courses/commercial
 -marine-drop-session-1
DTSTART;TZID=Europe/London:20250115T000000
DTEND;TZID=Europe/London:20250115T235959
SEQUENCE:0
END:VEVENT
END:VCALENDAR
