BEGIN:VCALENDAR
VERSION:2.0
PRODID:-//Sabre//Sabre VObject 4.5.7//EN
CALSCALE:GREGORIAN
BEGIN:VEVENT
UID:sabre-vobject-bc0c3b63-6423-43c6-bfd8-813fbdea39b0
DTSTAMP:20260421T181537Z
SUMMARY:Members’ Webinar – Business Property Relief on Inheritance Tax 
DESCRIPTION:Members&#39\; Webinar - Business Property Relief on Inheritance
  Tax - what the reforms could mean for your family business and steps to c
 onsider.&nbsp\; &nbsp\;\n
X-ALT-DESC:FMTTYPE=text/html:<!DOCTYPE HTML PUBLIC "-//W3C//DTD HTML 3.2//E
 N"><HTML><p>Members&#39\; Webinar - Business Property Relief on Inheritanc
 e Tax - what the reforms could mean for your family business and steps to 
 consider.&nbsp\; &nbsp\;</p>\n</HTML>
CREATED;TZID=Europe/London:20241120T131142
URL;VALUE=URI:https://www.britishmarine.co.uk/membership/events-and-courses
 /members-webinar-business-property-relief-inheritance-tax
DTSTART;TZID=Europe/London:20241209T000000
DTEND;TZID=Europe/London:20241209T235959
SEQUENCE:0
END:VEVENT
END:VCALENDAR
