BEGIN:VCALENDAR
VERSION:2.0
PRODID:-//Sabre//Sabre VObject 4.5.7//EN
CALSCALE:GREGORIAN
BEGIN:VEVENT
UID:sabre-vobject-968fe9fe-41dc-488f-b701-6f4fbfbfc2d6
DTSTAMP:20260421T175651Z
SUMMARY:SuperyachtUK Technical Seminar 2025
DESCRIPTION:Seminar Time: 9:30 AM &ndash\; 4:30 PM\nNetworking Drinks Recep
 tion: 4:30 PM &ndash\; 6:00 PM\n\nLocation:\nThe Union Jack Club\nSandell 
 St\, Waterloo\,&nbsp\;London\, SE1 8UJ\n\nTelephone: 020 7902 6000\n\n\nNo
 w in its 14th year\, the SYUK Technical Seminar is an established and esse
 ntial event in the superyacht calendar\, attracting international professi
 onals to discuss critical sector-specific topics. This in person event is 
 an unparalleled opportunity for attendees to engage with current trends\, 
 regulatory updates\, and innovative solutions shaping the future of the su
 peryacht sector.\n\nIt&#39\;s a chance to deepen your understanding\, chal
 lenge your perspectives\, and strengthen your connections within the indus
 try.\n\nThe day will include time to network with other delegates and spea
 kers throughout the day and will finish off with an afternoon drinks recep
 tion.\n\nTo book your place\, please visit&nbsp\;SuperyachtUK Technical Se
 minar 2025 :: British Marine\n\nFor further information\, please contact&n
 bsp\;mbeattie@britishmarine.co.uk\n
X-ALT-DESC:FMTTYPE=text/html:<!DOCTYPE HTML PUBLIC "-//W3C//DTD HTML 3.2//E
 N"><HTML><p><strong><strong>Seminar Time</strong></strong>: 9:30 AM &ndash
 \; 4:30 PM<br />\n<strong><strong>Networking Drinks Reception</strong></st
 rong>: 4:30 PM &ndash\; 6:00 PM</p>\n\n<p><strong><strong>Location</strong
 ></strong>:<br />\nThe Union Jack Club<br />\nSandell St\, Waterloo\,&nbsp
 \;London\, SE1 8UJ<br />\n<br />\n<strong><strong>Telephone</strong></stro
 ng>: 020 7902 6000</p>\n\n<p><br />\nNow in its 14th year\, the SYUK Techn
 ical Seminar is an established and essential event in the superyacht calen
 dar\, attracting international professionals to discuss critical sector-sp
 ecific topics. This in person event is an unparalleled opportunity for att
 endees to engage with current trends\, regulatory updates\, and innovative
  solutions shaping the future of the superyacht sector.</p>\n\n<p>It&#39\;
 s a chance to deepen your understanding\, challenge your perspectives\, an
 d strengthen your connections within the industry.</p>\n\n<p>The day will 
 include time to network with other delegates and speakers throughout the d
 ay and will finish off with an afternoon drinks reception.</p>\n\n<p>To bo
 ok your place\, please visit&nbsp\;<a href="https://www.britishmarine.co.u
 k/events/superyachtuk-technical-seminar-2025">SuperyachtUK Technical Semin
 ar 2025 :: British Marine</a></p>\n\n<p>For further information\, please c
 ontact&nbsp\;<a href="mailto:mbeattie@britishmarine.co.uk">mbeattie@britis
 hmarine.co.uk</a></p>\n</HTML>
CREATED;TZID=Europe/London:20250117T103151
URL;VALUE=URI:https://www.britishmarine.co.uk/membership/events-and-courses
 /superyachtuk-technical-seminar-2025
DTSTART;TZID=Europe/London:20250325T093000
DTEND;TZID=Europe/London:20250325T180000
SEQUENCE:0
END:VEVENT
END:VCALENDAR
