BEGIN:VCALENDAR
VERSION:2.0
PRODID:-//Sabre//Sabre VObject 4.5.7//EN
CALSCALE:GREGORIAN
BEGIN:VEVENT
UID:sabre-vobject-86fa82e5-b71c-40d4-8feb-141578022f07
DTSTAMP:20260419T181823Z
SUMMARY:British Marine Electrics & Electronics Committee Meeting
DESCRIPTION:British Marine Electrics &amp\; Electronics Association will be
  meeting to discuss ongoing projects and plans for the association.&nbsp\;
 \n\nFor further information\, please contact secretary Fiona Pankhurst on 
 bmeeasecretary@gmail.com\n
X-ALT-DESC:FMTTYPE=text/html:<!DOCTYPE HTML PUBLIC "-//W3C//DTD HTML 3.2//E
 N"><HTML><p>British Marine Electrics &amp\; Electronics Association will b
 e meeting to discuss ongoing projects and plans for the association.&nbsp\
 ;</p>\n\n<p>For further information\, please contact secretary Fiona Pankh
 urst on <a href="mailto:bmeeasecretary@gmail.com">bmeeasecretary@gmail.com
 </a></p>\n</HTML>
CREATED;TZID=Europe/London:20241127T131217
URL;VALUE=URI:https://www.britishmarine.co.uk/events-and-courses/british-ma
 rine-electrics-and-electronics-committee-meeting
DTSTART;TZID=Europe/London:20250108T110000
DTEND;TZID=Europe/London:20250108T130000
SEQUENCE:0
END:VEVENT
END:VCALENDAR
