BEGIN:VCALENDAR
VERSION:2.0
PRODID:-//Sabre//Sabre VObject 4.5.7//EN
CALSCALE:GREGORIAN
BEGIN:VEVENT
UID:sabre-vobject-9eeecc1c-659b-450e-821c-a3e1d4335720
DTSTAMP:20260421T180320Z
SUMMARY:Seawork 2025
DESCRIPTION:\n\nJoin us at Seawork 2025\n\n🌊 Seawork Exhibition\n\n📍&
 nbsp\;British Marine&nbsp\;Stand\n\n📅 10th&nbsp\;&ndash\; 12th&nbsp\;Ju
 ne 2025\n\n🚢 Explore with British Marine\n\nThroughout the Seawork Exhi
 bition\, the&nbsp\;British Marine&nbsp\;team will be on-site\, ready to an
 swer your questions and provide expert guidance.\n\nPlease do visit our st
 and and catch up with the British Marine Team over a cup of coffee!\n\nWe 
 have team members from the Training\, Technical\, Sales and Membership Dep
 artments on site over the three days\, so whether you&rsquo\;re looking to
  discuss member benefits\, including our new&nbsp\;member loyalty scheme\,
  get the latest information and advice or simply want to take the weight o
 ff your feet &ndash\; we&rsquo\;ll be there to help!!\n\nFor further infor
 mation contact&nbsp\;NSanders@britishmarine.co.uk\n
X-ALT-DESC:FMTTYPE=text/html:<!DOCTYPE HTML PUBLIC "-//W3C//DTD HTML 3.2//E
 N"><HTML><p><meta charset="UTF-8" /></p>\n\n<h2>Join us at Seawork 2025</h
 2>\n\n<p>🌊 Seawork Exhibition</p>\n\n<p>📍&nbsp\;British Marine&nbsp\
 ;Stand</p>\n\n<p>📅 10<sup>th</sup>&nbsp\;&ndash\; 12<sup>th</sup>&nbsp\
 ;June 2025</p>\n\n<p>🚢 Explore with British Marine</p>\n\n<p>Throughout
  the Seawork Exhibition\, the&nbsp\;<a href="https://www.britishmarine.co.
 uk/about-us/meet-team">British Marine</a>&nbsp\;team will be on-site\, rea
 dy to answer your questions and provide expert guidance.</p>\n\n<p>Please 
 do visit our stand and catch up with the British Marine Team over a cup of
  coffee!</p>\n\n<p>We have team members from the Training\, Technical\, Sa
 les and Membership Departments on site over the three days\, so whether yo
 u&rsquo\;re looking to discuss member benefits\, including our new&nbsp\;<
 a href="https://www.britishmarine.co.uk/membership/business-support/member
 -loyalty-scheme">member loyalty scheme</a>\, get the latest information an
 d advice or simply want to take the weight off your feet &ndash\; we&rsquo
 \;ll be there to help!!</p>\n\n<p>For further information contact&nbsp\;<a
  href="mailto:NSanders@britishmarine.co.uk?subject=Seawork%20Enquiry">NSan
 ders@britishmarine.co.uk</a></p>\n</HTML>
CREATED;TZID=Europe/London:20250327T164957
URL;VALUE=URI:https://www.britishmarine.co.uk/membership/events-and-courses
 /seawork-2025
DTSTART;TZID=Europe/London:20250610T000000
DTEND;TZID=Europe/London:20250612T235959
SEQUENCE:0
END:VEVENT
END:VCALENDAR
