BEGIN:VCALENDAR
VERSION:2.0
PRODID:-//Sabre//Sabre VObject 4.5.7//EN
CALSCALE:GREGORIAN
BEGIN:VEVENT
UID:sabre-vobject-4f15bd46-7af7-45df-9a7f-df747e75a803
DTSTAMP:20260421T180321Z
SUMMARY:CMM Networking Event - Boot
DESCRIPTION:Presenting a great opportunity to network\, we look forward to 
 welcoming current Certified Marina Manager&#39\;s (CMM&#39\;s) and Certifi
 ed Marina Professional&#39\;s (CMP&#39\;s) to the GMI drinks event taking 
 place at BOOT on the 21st January 2025 between 17:00 - 18:30\n\nWhere: Mar
 ina Punat Stand &ndash\; Hall 13C\, Stand B32\n\nPlease confirm your atten
 dance by emailing Vicki - vcrossley@britishmarine.co.uk by the 13th Januar
 y 2025.\n
X-ALT-DESC:FMTTYPE=text/html:<!DOCTYPE HTML PUBLIC "-//W3C//DTD HTML 3.2//E
 N"><HTML><p>Presenting a great opportunity to network\, we look forward to
  welcoming current Certified Marina Manager&#39\;s (CMM&#39\;s) and Certif
 ied Marina Professional&#39\;s (CMP&#39\;s) to the GMI drinks event taking
  place at BOOT on the 21st January 2025 between 17:00 - 18:30</p>\n\n<p><s
 trong>Where: Marina Punat Stand &ndash\; Hall 13C\, Stand B32</strong></p>
 \n\n<p>Please confirm your attendance by emailing Vicki - <a aria-label="L
 ink vcrossley@britishmarine.co.uk" href="mailto:vcrossley@britishmarine.co
 .uk" id="menur1bm" rel="noreferrer noopener" target="_blank" title="mailto
 :vcrossley@britishmarine.co.uk">vcrossley@britishmarine.co.uk</a> by the 1
 3th January 2025.</p>\n</HTML>
CREATED;TZID=Europe/London:20250110T105317
URL;VALUE=URI:https://www.britishmarine.co.uk/membership/events-and-courses
 /cmm-networking-event-boot
DTSTART;TZID=Europe/London:20250121T170000
DTEND;TZID=Europe/London:20250121T183000
SEQUENCE:0
END:VEVENT
END:VCALENDAR
