BEGIN:VCALENDAR
VERSION:2.0
PRODID:-//Sabre//Sabre VObject 4.5.7//EN
CALSCALE:GREGORIAN
BEGIN:VEVENT
UID:sabre-vobject-e78f0067-4212-4770-b361-b8ecbd15c913
DTSTAMP:20260421T175854Z
SUMMARY:Exhibitors Social Media Online workshop at Southampton Internationa
 l Boat Show 2024
DESCRIPTION:Learn how to use Social Media effectively to increase footfall\
 , take advantage of show opportunities &amp\; maximise sales at not only t
 he Southampton Boat Show this year\, but with essential tools to use at ot
 her shows and events going forward.&nbsp\;Gain an understanding of the key
  social platforms (Facebook\, Twitter\, Instagram &amp\; LinkedIn) for you
  &amp\; your team to utilise at shows and events.\n\nExplore &amp\; learn 
 how to use all of these features - i.e Stories\, Reels\, Facebook Groups &
 amp\; trending hashtags - to allow you to easily connect with your target 
 audience. Ideal for use at Southampton Boat Show this year!&nbsp\;\n\nGath
 er all the tools &amp\; experience required to create a strategic marketin
 g plan for your time at shows and networking opportunities\, in order to m
 aximise your attendance. Time at the end of the session to put your burnin
 g Social Media questions to a Social Media expert.\n\n\n\n\n\n&nbsp\;\n
X-ALT-DESC:FMTTYPE=text/html:<!DOCTYPE HTML PUBLIC "-//W3C//DTD HTML 3.2//E
 N"><HTML><p>Learn how to use Social Media effectively to increase footfall
 \, take advantage of show opportunities &amp\; maximise sales at not only 
 the Southampton Boat Show this year\, but with essential tools to use at o
 ther shows and events going forward.&nbsp\;Gain an understanding of the ke
 y social platforms (Facebook\, Twitter\, Instagram &amp\; LinkedIn) for yo
 u &amp\; your team to utilise at shows and events.<br />\n<br />\nExplore 
 &amp\; learn how to use all of these features - i.e Stories\, Reels\, Face
 book Groups &amp\; trending hashtags - to allow you to easily connect with
  your target audience. Ideal for use at Southampton Boat Show this year!&n
 bsp\;<br />\n<br />\nGather all the tools &amp\; experience required to cr
 eate a strategic marketing plan for your time at shows and networking oppo
 rtunities\, in order to maximise your attendance. Time at the end of the s
 ession to put your burning Social Media questions to a Social Media expert
 .<br />\n<br />\n<br />\n<br />\n<br />\n<br />\n&nbsp\;</p>\n</HTML>
CREATED;TZID=Europe/London:20240328T164435
URL;VALUE=URI:https://www.britishmarine.co.uk/training/our-courses/social-m
 edia-training-1
DTSTART;TZID=Europe/London:20240829T000000
DTEND;TZID=Europe/London:20240829T235959
SEQUENCE:0
END:VEVENT
END:VCALENDAR
