BEGIN:VCALENDAR
VERSION:2.0
PRODID:-//Sabre//Sabre VObject 4.5.7//EN
CALSCALE:GREGORIAN
BEGIN:VEVENT
UID:sabre-vobject-df7597ba-4fca-41d7-a9b9-72e27ec69325
DTSTAMP:20260421T180733Z
SUMMARY:TYHA Fore & Aft Magazine - June Edition issued 
DESCRIPTION:TYHA Fore &amp\; Aft Magazine - June Edition issued&nbsp\;\n
X-ALT-DESC:FMTTYPE=text/html:<!DOCTYPE HTML PUBLIC "-//W3C//DTD HTML 3.2//E
 N"><HTML><p>TYHA Fore &amp\; Aft Magazine - June Edition issued&nbsp\;</p>
 \n</HTML>
CREATED;TZID=Europe/London:20241218T093831
URL;VALUE=URI:https://www.britishmarine.co.uk/membership/events-and-courses
 /tyha-fore-and-aft-magazine-june-edition-issued
DTSTART;TZID=Europe/London:20250601T000000
DTEND;TZID=Europe/London:20250601T235959
SEQUENCE:0
END:VEVENT
END:VCALENDAR
