BEGIN:VCALENDAR
VERSION:2.0
PRODID:-//Sabre//Sabre VObject 4.5.7//EN
CALSCALE:GREGORIAN
BEGIN:VEVENT
UID:sabre-vobject-08d9774c-6986-4559-a20e-24da65ef3c34
DTSTAMP:20260421T180838Z
SUMMARY:TYHA Fore & Aft Magazine - September Edition issued 
DESCRIPTION:TYHA Fore &amp\; Aft Magazine - September Edition issued&nbsp\;
 \n
X-ALT-DESC:FMTTYPE=text/html:<!DOCTYPE HTML PUBLIC "-//W3C//DTD HTML 3.2//E
 N"><HTML><p>TYHA Fore &amp\; Aft Magazine - September Edition issued&nbsp\
 ;</p>\n</HTML>
CREATED;TZID=Europe/London:20241218T093903
URL;VALUE=URI:https://www.britishmarine.co.uk/membership/events-and-courses
 /tyha-fore-and-aft-magazine-september-edition-issued
DTSTART;TZID=Europe/London:20250901T000000
DTEND;TZID=Europe/London:20250901T235959
SEQUENCE:0
END:VEVENT
END:VCALENDAR
