BEGIN:VCALENDAR
VERSION:2.0
PRODID:-//Sabre//Sabre VObject 4.5.7//EN
CALSCALE:GREGORIAN
BEGIN:VEVENT
UID:sabre-vobject-3bb86e12-892e-428e-8f4e-dc3e69a26267
DTSTAMP:20260421T034413Z
SUMMARY:British Marine Access to Boating Drop-In Session
DESCRIPTION:Join us&nbsp\;for a drop-in session to discuss the new draft of
  the Sport &amp\; Pleasure Code and inform you of the consultation period.
  Please join us so you can find out how to have your say and influence the
  contents of this important piece of legislation.\n\nWe look forward to yo
 ur participation.\n\nWhere: Zoom\n\nDate: Monday 10th February 2025\n\nTim
 e: 10am - 11.30am\n\nContact: ljupp@britishmarine.co.uk\n\n&nbsp\;\n
X-ALT-DESC:FMTTYPE=text/html:<!DOCTYPE HTML PUBLIC "-//W3C//DTD HTML 3.2//E
 N"><HTML><p>Join us&nbsp\;for a drop-in session to discuss the new draft o
 f the Sport &amp\; Pleasure Code and inform you of the consultation period
 . Please join us so you can find out how to have your say and influence th
 e contents of this important piece of legislation.<br />\n<br />\nWe look 
 forward to your participation.</p>\n\n<p>Where: Zoom</p>\n\n<p>Date: Monda
 y 10th February 2025</p>\n\n<p>Time: 10am - 11.30am</p>\n\n<p>Contact: lju
 pp@britishmarine.co.uk</p>\n\n<p>&nbsp\;</p>\n</HTML>
CREATED;TZID=Europe/London:20250114T131920
URL;VALUE=URI:https://www.britishmarine.co.uk/events-and-courses/british-ma
 rine-access-boating-drop-session
DTSTART;TZID=Europe/London:20250210T000000
DTEND;TZID=Europe/London:20250210T235959
SEQUENCE:0
END:VEVENT
END:VCALENDAR
