BEGIN:VCALENDAR
VERSION:2.0
PRODID:-//Sabre//Sabre VObject 4.5.7//EN
CALSCALE:GREGORIAN
BEGIN:VEVENT
UID:sabre-vobject-421174cb-03ee-487f-9189-76ac9ad0ad20
DTSTAMP:20260421T175753Z
SUMMARY:A New Approach to Social Media Content
DESCRIPTION:&nbsp\;In the ever-changing world of Social Media it&rsquo\;s n
 o longer effective to keep creating the same content you were a few years 
 ago &amp\; expecting the same results. It&rsquo\;s time to shake things up
  a bit by getting onboard with all that Social Media platforms are now cal
 ling for in 2025.\n\n&nbsp\;\n\n&nbsp\;Join for guidance\, inspiration &am
 p\; strategy to explore:&nbsp\;\n\n&nbsp\;● The power of Video Content: 
 How long should your videos be? What does the algorithm love? How can you 
 easily create video content? What performs the best? Can Reels be used on 
 multiple platforms?\n\n&nbsp\;● How to utilise Carousel posts &amp\; the
  content that works best when shared this way.\n\n&nbsp\;● Consider crea
 ting collaboration content to reach your target audience &amp\; why this c
 an be so powerful.\n\n&nbsp\;● When should you utilise Meta Ads to furth
 er boost your content?\n\n&nbsp\;● How AI can help you be more efficient
  &amp\; creative\n\n&nbsp\;● The Pros &amp\; Cons of AI when it comes to
  Social Media Marketing\n\n&nbsp\;● How your team can work together to h
 elp support your growing Social Media Channels\n\n&nbsp\;● Why it&rsquo\
 ;s important to plan a Social Media strategy &amp\; relevant campaigns\n\n
 &nbsp\;\n\nThis workshop is 2.5 hours long with 30 minutes left at the end
  for you to ask your burning Social Media content questions.\n\nTo book pl
 ease complete this form\n
X-ALT-DESC:FMTTYPE=text/html:<!DOCTYPE HTML PUBLIC "-//W3C//DTD HTML 3.2//E
 N"><HTML><p><i>&nbsp\;In the ever-changing world of Social Media it&rsquo\
 ;s no longer effective to keep creating the same content you were a few ye
 ars ago &amp\; expecting the same results. It&rsquo\;s time to shake thing
 s up a bit by getting onboard with all that Social Media platforms are now
  calling for in 2025.</i></p>\n\n<p><i>&nbsp\;</i></p>\n\n<p><i>&nbsp\;Joi
 n for guidance\, inspiration &amp\; strategy to explore:&nbsp\;</i></p>\n\
 n<p><i>&nbsp\;● The power of Video Content: How long should your videos 
 be? What does the algorithm love? How can you easily create video content?
  What performs the best? Can Reels be used on multiple platforms?</i></p>\
 n\n<p><i>&nbsp\;● How to utilise Carousel posts &amp\; the content that 
 works best when shared this way.</i></p>\n\n<p><i>&nbsp\;● Consider crea
 ting collaboration content to reach your target audience &amp\; why this c
 an be so powerful.</i></p>\n\n<p><i>&nbsp\;● When should you utilise Met
 a Ads to further boost your content?</i></p>\n\n<p><i>&nbsp\;● How AI ca
 n help you be more efficient &amp\; creative</i></p>\n\n<p><i>&nbsp\;● T
 he Pros &amp\; Cons of AI when it comes to Social Media Marketing</i></p>\
 n\n<p><i>&nbsp\;● How your team can work together to help support your g
 rowing Social Media Channels</i></p>\n\n<p><i>&nbsp\;● Why it&rsquo\;s i
 mportant to plan a Social Media strategy &amp\; relevant campaigns</i></p>
 \n\n<p><i>&nbsp\;</i></p>\n\n<p><i>This workshop is 2.5 hours long with 30
  minutes left at the end for you to ask your burning Social Media content 
 questions.</i></p>\n\n<p>To book please complete <a href="https://forms.of
 fice.com/pages/responsepage.aspx?id=48Ignm-jd0qAss1GVVEwvs2PLLxlhoxMgV67iC
 f0xPtUOVEwMUhMVFJZMUw5TVBSVFlORlRONFBUQy4u&amp\;route=shorturl">this form<
 /a></p>\n</HTML>
CREATED;TZID=Europe/London:20250502T110503
URL;VALUE=URI:https://www.britishmarine.co.uk/training/our-courses/social-m
 edia-training
DTSTART;TZID=Europe/London:20250515T130000
DTEND;TZID=Europe/London:20250515T160000
SEQUENCE:0
END:VEVENT
END:VCALENDAR
