BEGIN:VCALENDAR
VERSION:2.0
PRODID:-//Sabre//Sabre VObject 4.5.7//EN
CALSCALE:GREGORIAN
BEGIN:VEVENT
UID:sabre-vobject-4eaa7140-2daa-4c5f-aff1-5af30cd694ec
DTSTAMP:20260421T180710Z
SUMMARY:Social Media Overview for SIBS & Seawork exhibitors
DESCRIPTION:\n	Grab the chance to learn how to use Social Media effectively
  to increase footfall\, take advantage of show opportunities &amp\; maximi
 se sales at your upcoming exhibitions.\n	Learn the relevant @ tags\, locat
 ion tags &amp\; hashtags to be using throughout your upcoming exhibitions.
 \n	Gain an understanding of the key social platforms for you &amp\; your t
 eam to utilise during your upcoming exhibitions.\n	Explore &amp\; learn ho
 w to use all of the key event promotion features - i.e Stories\, Reels\, L
 ive Video\, Facebook Groups &amp\; trending hashtags - to allow you to eas
 ily connect with your target audience during the show &amp\; beyond.\n	Con
 sider content ideas to link with the specific event hashtag to grab this m
 arketing opportunity.\n	Gather all the tools &amp\; experience required to
  create content and/or a strategic marketing plan for your time at your up
 coming exhibitions to allow you to maximise you &amp\; your team&rsquo\;s 
 attendance.\n	Explore ideas to keep the connections &amp\; conversations b
 uilding long after the exhibitions have ended.\n	Utilise Q&amp\;A time at 
 the end of the session to put your burning Social Media questions to a Soc
 ial Media expert from Introtweet.\n\n\nTo find out more about this online 
 course click here.\n
X-ALT-DESC:FMTTYPE=text/html:<!DOCTYPE HTML PUBLIC "-//W3C//DTD HTML 3.2//E
 N"><HTML><ul class="arrowed-bullet">\n	<li>Grab the chance to learn how to
  use Social Media effectively to increase footfall\, take advantage of sho
 w opportunities &amp\; maximise sales at your upcoming exhibitions.</li>\n
 	<li>Learn the relevant @ tags\, location tags &amp\; hashtags to be using
  throughout your upcoming exhibitions.</li>\n	<li>Gain an understanding of
  the key social platforms for you &amp\; your team to utilise during your 
 upcoming exhibitions.</li>\n	<li>Explore &amp\; learn how to use all of th
 e key event promotion features - i.e Stories\, Reels\, Live Video\, Facebo
 ok Groups &amp\; trending hashtags - to allow you to easily connect with y
 our target audience during the show &amp\; beyond.</li>\n	<li>Consider con
 tent ideas to link with the specific event hashtag to grab this marketing 
 opportunity.</li>\n	<li>Gather all the tools &amp\; experience required to
  create content and/or a strategic marketing plan for your time at your up
 coming exhibitions to allow you to maximise you &amp\; your team&rsquo\;s 
 attendance.</li>\n	<li>Explore ideas to keep the connections &amp\; conver
 sations building long after the exhibitions have ended.</li>\n	<li>Utilise
  Q&amp\;A time at the end of the session to put your burning Social Media 
 questions to a Social Media expert from Introtweet.</li>\n</ul>\n\n<p>To f
 ind out more about this online course <a href="https://www.britishmarine.c
 o.uk/training/our-courses/social-media-training">click here</a>.</p>\n</HT
 ML>
CREATED;TZID=Europe/London:20250317T112437
URL;VALUE=URI:https://www.britishmarine.co.uk/membership/events-and-courses
 /social-media-overview-sibs-and-seawork-exhibitors
DTSTART;TZID=Europe/London:20250515T093000
DTEND;TZID=Europe/London:20250515T123000
SEQUENCE:0
END:VEVENT
END:VCALENDAR
