BEGIN:VCALENDAR
VERSION:2.0
PRODID:-//Sabre//Sabre VObject 4.5.7//EN
CALSCALE:GREGORIAN
BEGIN:VEVENT
UID:sabre-vobject-3447c203-ab3b-4ea0-8ee1-8c710a89bbb2
DTSTAMP:20260421T180640Z
SUMMARY:British Marine London & Thames Valley Committee Meeting
DESCRIPTION:
X-ALT-DESC:FMTTYPE=text/html:<!DOCTYPE HTML PUBLIC "-//W3C//DTD HTML 3.2//E
 N"><HTML></HTML>
CREATED;TZID=Europe/London:20250224T144904
URL;VALUE=URI:https://www.britishmarine.co.uk/membership/events-and-courses
 /british-marine-london-and-thames-valley-committee-meeting-2
DTSTART;TZID=Europe/London:20250812T000000
DTEND;TZID=Europe/London:20250812T000000
SEQUENCE:0
END:VEVENT
END:VCALENDAR
