BEGIN:VCALENDAR
VERSION:2.0
PRODID:-//Sabre//Sabre VObject 4.5.7//EN
CALSCALE:GREGORIAN
BEGIN:VEVENT
UID:sabre-vobject-4bfd0ae1-bb20-4502-8287-90c09ac299ae
DTSTAMP:20260421T053622Z
SUMMARY:TYHA Stand Party SIBS 2025 sponsored by IGY Marinas 
DESCRIPTION:
X-ALT-DESC:FMTTYPE=text/html:<!DOCTYPE HTML PUBLIC "-//W3C//DTD HTML 3.2//E
 N"><HTML></HTML>
CREATED;TZID=Europe/London:20250224T145618
URL;VALUE=URI:https://www.britishmarine.co.uk/events-and-courses/tyha-stand
 -party-sibs-2025-sponsored-igy-marinas
DTSTART;TZID=Europe/London:20250924T170000
DTEND;TZID=Europe/London:20250924T190000
SEQUENCE:0
END:VEVENT
END:VCALENDAR
