BEGIN:VCALENDAR
VERSION:2.0
PRODID:-//Sabre//Sabre VObject 4.5.7//EN
CALSCALE:GREGORIAN
BEGIN:VEVENT
UID:sabre-vobject-9f7bb94b-8cca-440a-9363-71b3857137c0
DTSTAMP:20260420T045027Z
SUMMARY:Time to Save Time Course
DESCRIPTION:NEW course in collaboration with NeoSkill.&nbsp\;\n\n\nLiving i
 n a fast-paced society\, a lot of people feel they don&rsquo\;t have enoug
 h time at the end of their work day. Tasks pile up and our personal time i
 s affected with the extra work. Efficient time management skills help us m
 anage all our work activities. This Time Management course covers a unique
  3-step process to deal with your work activities.\n\nIn this course we ex
 plore:\n\n\n	Foundational time management skills\n	The 3-step &lsquo\;Work
 ability Model&rsquo\; to manage tasks\n	Barriers to time management\n	Orga
 nising and completing tasks\n	Overcoming procrastination\n\n\nDelivery Met
 hod: Live Virtual Duration: 3.5 hours&nbsp\;\n\nIf you would like to atten
 d please complete the booking form here\n\nThe course cost is &pound\;200 
 for members and &pound\;300 for non-members\n
X-ALT-DESC:FMTTYPE=text/html:<!DOCTYPE HTML PUBLIC "-//W3C//DTD HTML 3.2//E
 N"><HTML><h3><span style="color:#c0392b\;">NEW</span> course in collaborat
 ion with NeoSkill.&nbsp\;</h3>\n\n<p><br />\nLiving in a fast-paced societ
 y\, a lot of people feel they don&rsquo\;t have enough time at the end of 
 their work day. Tasks pile up and our personal time is affected with the e
 xtra work. Efficient time management skills help us manage all our work ac
 tivities. This Time Management course covers a unique 3-step process to de
 al with your work activities.</p>\n\n<p>In this course we explore:</p>\n\n
 <ul class="arrowed-bullet">\n	<li>Foundational time management skills</li>
 \n	<li>The 3-step &lsquo\;Workability Model&rsquo\; to manage tasks</li>\n
 	<li>Barriers to time management</li>\n	<li>Organising and completing task
 s</li>\n	<li>Overcoming procrastination</li>\n</ul>\n\n<p>Delivery Method:
  Live Virtual Duration: 3.5 hours&nbsp\;</p>\n\n<p>If you would like to at
 tend please complete the booking form <a href="https://forms.office.com/pa
 ges/responsepage.aspx?id=48Ignm-jd0qAss1GVVEwvlC1bktaOH9DsC-F40zDIORUQUFUV
 ThFQ00xTTFHSlhXNk1ORlI3NlZRUCQlQCN0PWcu&amp\;route=shorturl">here</a></p>\
 n\n<p>The course cost is &pound\;200 for members and &pound\;300 for non-m
 embers</p>\n</HTML>
CREATED;TZID=Europe/London:20250407T152251
URL;VALUE=URI:https://www.britishmarine.co.uk/training/our-courses/cpd-cour
 ses/time-save-time-course
DTSTART;TZID=Europe/London:20250512T090000
DTEND;TZID=Europe/London:20250512T123000
SEQUENCE:0
END:VEVENT
END:VCALENDAR
