BEGIN:VCALENDAR
VERSION:2.0
PRODID:-//Sabre//Sabre VObject 4.5.7//EN
CALSCALE:GREGORIAN
BEGIN:VEVENT
UID:sabre-vobject-c186fb21-5c3d-4f26-9c4e-832bf37a6651
DTSTAMP:20260421T175646Z
SUMMARY:Member Networking Drinks at Crick Boat Show
DESCRIPTION:Join Us for Annual Member Drinks!\n\nCome and meet some of the 
 British Marine Team at our annual member drinks in the Marquee Bar on Frid
 ay\, 23 May 2025. Simply drop by at 4 PM for a relaxed networking gatherin
 g with exhibitors and guests. No need to book&mdash\;just turn up and enjo
 y!\n\nWe look forward to seeing you there!\n\nBook your Crick tickets here
 .\n
X-ALT-DESC:FMTTYPE=text/html:<!DOCTYPE HTML PUBLIC "-//W3C//DTD HTML 3.2//E
 N"><HTML><p data-end="39" data-start="0"><strong data-end="37" data-start=
 "0">Join Us for Annual Member Drinks!</strong></p>\n\n<p data-end="293" da
 ta-start="41">Come and meet some of the British Marine Team at our annual 
 member drinks in the Marquee Bar on <strong data-end="160" data-start="137
 ">Friday\, 23 May 2025</strong>. Simply drop by at <strong data-end="188" 
 data-start="180">4 PM</strong> for a relaxed networking gathering with exh
 ibitors and guests. No need to book&mdash\;just turn up and enjoy!</p>\n\n
 <p data-end="331" data-start="295">We look forward to seeing you there!</p
 >\n\n<p data-end="331" data-start="295">Book your Crick tickets <a href="h
 ttps://www.crickboatshow.com/">here</a>.</p>\n</HTML>
CREATED;TZID=Europe/London:20250414T150905
URL;VALUE=URI:https://www.britishmarine.co.uk/membership/events-and-courses
 /member-networking-drinks-crick-boat-show
DTSTART;TZID=Europe/London:20250523T160000
DTEND;TZID=Europe/London:20250523T173000
SEQUENCE:0
END:VEVENT
END:VCALENDAR
