BEGIN:VCALENDAR
VERSION:2.0
PRODID:-//Sabre//Sabre VObject 4.5.7//EN
CALSCALE:GREGORIAN
BEGIN:VEVENT
UID:sabre-vobject-8aea32e4-505a-4d1e-bbc1-26bc51fb7beb
DTSTAMP:20260421T180406Z
SUMMARY:US Tariffs Impact Forum
DESCRIPTION:Navigating new US Tariffs&nbsp\;\n\nHow will the latest tariffs
  impact your business?\n\nYour chance to share your concerns and discuss t
 he&nbsp\;key challenges ahead\n\n\nJoin us for an one-hour online forum ex
 clusively for British Marine members to assess the newly imposed US tariff
 s and discuss strategies for navigating these changes in the global export
  landscape.\n\nPartnering with the Chartered Institute of Export &amp\; In
 ternational Trade we also look forward to welcoming an expert from their t
 eam to join the session.\n\nWhat to expect\n\nThe newly introduced US tari
 ffs could have significant implications for UK marine businesses exporting
  to the region. This interactive session will provide a crucial platform f
 or members to:\n\n\n	Assess the impact of the latest US tariff policies on
  exports and share industry concerns\n	Identify key challenges and potenti
 al benefits\n	Discuss alternative trade markets and export strategies\n	De
 termine where British Marine can most effectively provide support\n\n\nDur
 ing the session\, we will also explore the potential retaliatory tariffs f
 rom the UK government &ndash\; examining what they could mean for the indu
 stry and inviting your views on the possible impact.\n\nEvent Details\n\n\
 n	Date: Thursday\, 24 April\n	Time: 14.00\n	Location: Online\n\n\nHosted b
 y\n\n\n	Sarah Wallbank - CEO\, August Race Group &amp\;&nbsp\;Chair\, Brit
 ish Marine South West Association\n	Robert Parton - Owner\, Aqueduct Marin
 a &amp\; President\, British Marine\n\n\nBe part of this important convers
 ation.\n\nSecure your place today!\n\n&nbsp\;\n\nThis exclusive session is
  open to British Marine members only and offers you the opportunity to sha
 pe our response and ensure we provide the best possible support for our me
 mbers during these challenging times.\n\nWith the US accounting for 13% of
  global trade\, staying informed and exploring all available options is cr
 ucial &ndash\; but remember\, the US is not the only option!\n\nTogether\,
  we can navigate these changes and uncover new opportunities.\n\n&nbsp\;\n
 \nRegister here:&nbsp\;Navigating new US Tariffs Tickets\, Thu 24 Apr 2025
  at 14:00 | Eventbrite\n
X-ALT-DESC:FMTTYPE=text/html:<!DOCTYPE HTML PUBLIC "-//W3C//DTD HTML 3.2//E
 N"><HTML><h2 style="text-align: center\;"><strong>Navigating new US Tariff
 s&nbsp\;</strong></h2>\n\n<h3 style="text-align: center\;"><strong>How wil
 l the latest tariffs impact your business?</strong></h3>\n\n<h3 align="cen
 ter"><strong>Your chance to share your concerns and discuss the&nbsp\;key 
 challenges ahead</strong></h3>\n\n<p><br />\nJoin us for an one-hour onlin
 e forum exclusively for British Marine members to assess the newly imposed
  US tariffs and discuss strategies for navigating these changes in the glo
 bal export landscape.</p>\n\n<p>Partnering with the <a href="https://urlde
 fense.proofpoint.com/v2/url?u=https-3A__emails.britishmarine.co.uk_c_AQiL-
 5FhUQy89CGKnP7FIgpOauBlwRlWLJPa0S2nHR5UND0esKN50aEEr2ZQb3QXfP09mQ&amp\;d=D
 wMFaQ&amp\;c=euGZstcaTDllvimEN8b7jXrwqOf-v5A_CdpgnVfiiMM&amp\;r=COddlGU7k7
 X5yjtFPB578R5DGqB6uDcMqx0JG3ZDLaE&amp\;m=tG2u0lkH-N5-BeZLfZ9rgmu9aktVhBDUI
 nlV_9wueLjy9b-BplUNDIq6mu5S3ACi&amp\;s=JWkNavh3liLHPcCdPeUSV-75HzzVYyzDzTi
 KIDltZx8&amp\;e="><b>Chartered Institute of Export &amp\; International Tr
 ade</b></a> we also look forward to welcoming an expert from their team to
  join the session.</p>\n\n<h3><strong>What to expect</strong></h3>\n\n<p>T
 he newly introduced US tariffs could have significant implications for UK 
 marine businesses exporting to the region. This interactive session will p
 rovide a crucial platform for members to:</p>\n\n<ul class="arrowed-bullet
 ">\n	<li><b>Assess the impact of the latest US tariff policies on exports 
 and share industry concerns</b></li>\n	<li><b>Identify key challenges and 
 potential benefits</b></li>\n	<li><b>Discuss alternative trade markets and
  export strategies</b></li>\n	<li><b>Determine where British Marine can mo
 st effectively provide support</b></li>\n</ul>\n\n<p>During the session\, 
 we will also explore the <b>potential retaliatory tariffs</b> from the UK 
 government &ndash\; examining what they could mean for the industry and in
 viting your views on the possible impact.</p>\n\n<h3><strong>Event Details
 </strong></h3>\n\n<ul class="arrowed-bullet">\n	<li><strong>Date</strong>:
  Thursday\, 24 April</li>\n	<li><strong>Time</strong>: 14.00</li>\n	<li><s
 trong>Location</strong>: Online</li>\n</ul>\n\n<h3><strong>Hosted by</stro
 ng></h3>\n\n<ul class="arrowed-bullet">\n	<li><strong>Sarah Wallbank</stro
 ng> - CEO\, August Race Group &amp\;&nbsp\;Chair\, British Marine South We
 st Association</li>\n	<li><strong>Robert Parton</strong> - Owner\, Aqueduc
 t Marina &amp\; President\, British Marine</li>\n</ul>\n\n<h2 style="text-
 align: center\;">Be part of this important conversation.</h2>\n\n<h2 style
 ="text-align: center\;">Secure your place today!</h2>\n\n<p>&nbsp\;</p>\n\
 n<p>This exclusive session is open to British Marine members only and offe
 rs you the opportunity to shape our response and ensure we provide the bes
 t possible support for our members during these challenging times.</p>\n\n
 <p>With the US accounting for 13% of global trade\, staying informed and e
 xploring all available options is crucial &ndash\; but remember\, the US i
 s not the only option!</p>\n\n<p style="text-align: center\;"><b>Together\
 , we can navigate these changes and uncover new opportunities.</b></p>\n\n
 <p style="text-align: center\;">&nbsp\;</p>\n\n<h3><b>Register here:&nbsp\
 ;</b><a href="https://www.eventbrite.com/e/navigating-new-us-tariffs-ticke
 ts-1316411334739?utm-campaign=social&amp\;utm-content=attendeeshare&amp\;u
 tm-medium=discovery&amp\;utm-term=listing&amp\;utm-source=cp&amp\;aff=ebds
 shcopyurl&amp\;dm_i=7PXN\,NE8B\,2VFZC9\,20URH\,1">Navigating new US Tariff
 s Tickets\, Thu 24 Apr 2025 at 14:00 | Eventbrite</a></h3>\n</HTML>
CREATED;TZID=Europe/London:20250410T120455
URL;VALUE=URI:https://www.britishmarine.co.uk/membership/events-and-courses
 /us-tariffs-impact-forum
DTSTART;TZID=Europe/London:20250424T020000
DTEND;TZID=Europe/London:20250424T030000
SEQUENCE:0
END:VEVENT
END:VCALENDAR
