BEGIN:VCALENDAR
VERSION:2.0
PRODID:-//Sabre//Sabre VObject 4.5.7//EN
CALSCALE:GREGORIAN
BEGIN:VEVENT
UID:sabre-vobject-eb9c8919-2064-420e-a17f-e7e140c4d424
DTSTAMP:20260421T181319Z
SUMMARY:British Marine London & Thames Valley AGM & Council Meeting
DESCRIPTION:British Marine London &amp\; Thames Valley AGM &amp\; Council M
 eeting&nbsp\;\n\nHarleyford Golf Club - 10am including sandwich lunch&nbsp
 \;\n
X-ALT-DESC:FMTTYPE=text/html:<!DOCTYPE HTML PUBLIC "-//W3C//DTD HTML 3.2//E
 N"><HTML><p>British Marine London &amp\; Thames Valley AGM &amp\; Council 
 Meeting&nbsp\;</p>\n\n<p>Harleyford Golf Club - 10am including sandwich lu
 nch&nbsp\;</p>\n</HTML>
CREATED;TZID=Europe/London:20250430T103924
URL;VALUE=URI:https://www.britishmarine.co.uk/membership/events-and-courses
 /british-marine-london-and-thames-valley-agm-and-council-meeting
DTSTART;TZID=Europe/London:20250617T100000
DTEND;TZID=Europe/London:20250617T000000
SEQUENCE:0
END:VEVENT
END:VCALENDAR
