BEGIN:VCALENDAR
VERSION:2.0
PRODID:-//Sabre//Sabre VObject 4.5.7//EN
CALSCALE:GREGORIAN
BEGIN:VEVENT
UID:sabre-vobject-07e44eae-0135-4804-aa18-766a572dd880
DTSTAMP:20260421T181405Z
SUMMARY:British Marine South and Isle of Wight Summer Party
DESCRIPTION:British Marine South and Isle of Wight are pleased to invite yo
 u to our annual Summer Party at Bucklers Hard Boatyard on the picturesque 
 Beaulieu River\n\n&nbsp\;\n\nWith food and a complimentary drink included 
 in the price of a ticket\, this opportunity to mix and mingle with members
  in your area is not to be missed! To secure your place\, click the link t
 o book your tickets now.\n\n&nbsp\;\n\nClick here to book your tickets\n
X-ALT-DESC:FMTTYPE=text/html:<!DOCTYPE HTML PUBLIC "-//W3C//DTD HTML 3.2//E
 N"><HTML><p>British Marine South and Isle of Wight are pleased to invite y
 ou to our annual Summer Party at Bucklers Hard Boatyard on the picturesque
  Beaulieu River</p>\n\n<p>&nbsp\;</p>\n\n<p>With food and a complimentary 
 drink included in the price of a ticket\, this opportunity to mix and ming
 le with members in your area is not to be missed! To secure your place\, c
 lick the link to book your tickets now.</p>\n\n<p>&nbsp\;</p>\n\n<p><a hre
 f="https://www.eventbrite.co.uk/e/british-marine-south-and-isle-of-wight-s
 ummer-party-tickets-1388077108999?aff=oddtdtcreator">Click here to book yo
 ur tickets</a></p>\n</HTML>
CREATED;TZID=Europe/London:20250529T154248
URL;VALUE=URI:https://www.britishmarine.co.uk/membership/events-and-courses
 /british-marine-south-and-isle-wight-summer-party-1
DTSTART;TZID=Europe/London:20250710T150000
DTEND;TZID=Europe/London:20250710T200000
SEQUENCE:0
END:VEVENT
END:VCALENDAR
