BEGIN:VCALENDAR
VERSION:2.0
PRODID:-//Sabre//Sabre VObject 4.5.7//EN
CALSCALE:GREGORIAN
BEGIN:VEVENT
UID:sabre-vobject-355769c5-b73e-42bb-af68-dc8885f15775
DTSTAMP:20260421T181010Z
SUMMARY:Commercial Marine Committee Meeting
DESCRIPTION:What?: Commercial Marine Committee Meeting\n\nWhere?: Zoom\n\nW
 hen?: Tuesday 5th August\, 10.00 - 12.00\n\nContact: Lisa Jupp - ljupp@bri
 tishmarine.co.uk\n
X-ALT-DESC:FMTTYPE=text/html:<!DOCTYPE HTML PUBLIC "-//W3C//DTD HTML 3.2//E
 N"><HTML><p>What?: Commercial Marine Committee Meeting</p>\n\n<p>Where?: Z
 oom</p>\n\n<p>When?: Tuesday 5th August\, 10.00 - 12.00</p>\n\n<p>Contact:
  Lisa Jupp - ljupp@britishmarine.co.uk</p>\n</HTML>
CREATED;TZID=Europe/London:20250721T120904
URL;VALUE=URI:https://www.britishmarine.co.uk/membership/events-and-courses
 /commercial-marine-committee-meeting
DTSTART;TZID=Europe/London:20250805T000000
DTEND;TZID=Europe/London:20250805T235959
SEQUENCE:0
END:VEVENT
END:VCALENDAR
