BEGIN:VCALENDAR
VERSION:2.0
PRODID:-//Sabre//Sabre VObject 4.5.7//EN
CALSCALE:GREGORIAN
BEGIN:VEVENT
UID:sabre-vobject-9c51fc02-11f7-4832-8b08-a3b776d58bb0
DTSTAMP:20260421T181531Z
SUMMARY:British Marine Inland Committee Meeting
DESCRIPTION:Date: Tuesday 4th August 2026\n\nTime: 10.00 - 12.00\n\nLocatio
 n: Zoom\n\nContact: Lisa Jupp - ljupp@britishmarine.co.uk\n
X-ALT-DESC:FMTTYPE=text/html:<!DOCTYPE HTML PUBLIC "-//W3C//DTD HTML 3.2//E
 N"><HTML><p>Date: Tuesday 4th August 2026</p>\n\n<p>Time: 10.00 - 12.00</p
 >\n\n<p>Location: Zoom</p>\n\n<p>Contact: Lisa Jupp - ljupp@britishmarine.
 co.uk</p>\n</HTML>
CREATED;TZID=Europe/London:20250721T122151
URL;VALUE=URI:https://www.britishmarine.co.uk/membership/events-and-courses
 /british-marine-inland-committee-meeting-5
DTSTART;TZID=Europe/London:20260804T000000
DTEND;TZID=Europe/London:20260804T235959
SEQUENCE:0
END:VEVENT
END:VCALENDAR
