BEGIN:VCALENDAR
VERSION:2.0
PRODID:-//Sabre//Sabre VObject 4.5.7//EN
CALSCALE:GREGORIAN
BEGIN:VEVENT
UID:sabre-vobject-a75464d0-89d0-4802-8e2a-562684488df0
DTSTAMP:20260421T175723Z
SUMMARY:Commercial Marine Association - Member Drop-In Session
DESCRIPTION:Join us for an informal online drop-in session designed exclusi
 vely for Commercial Marine Association members.\n\nThis relaxed and intera
 ctive session offers the perfect opportunity to connect with fellow member
 s\, meet some of the new Committee\, and share your thoughts\, questions\,
  or concerns about current industry topics. Whether you have specific issu
 es to raise or simply want to stay in touch with the latest developments\,
  this is your space to be heard and get involved.\n\nDiscussion topics wil
 l be shared ahead of the session\, but we encourage open conversation and 
 member-led dialogue throughout.\n\nEvent Details:\n\n📅 Date: Wednesday 
 26 November 2025\n🕒 Time: 15:00&ndash\;15:45 GMT\n📍 Location: Zoom\n
 📧 Contact: Lisa Jupp at ljupp@britishmarine.co.uk\n\nDrop in\, share yo
 ur insights\, and help shape the future of the commercial marine sector.\n
X-ALT-DESC:FMTTYPE=text/html:<!DOCTYPE HTML PUBLIC "-//W3C//DTD HTML 3.2//E
 N"><HTML><p>Join us for an <b>informal online drop-in session</b> designed
  exclusively for Commercial Marine Association members.</p>\n\n<p>This rel
 axed and interactive session offers the perfect opportunity to <b>connect 
 with fellow members\, meet some of the new Committee\, and share your thou
 ghts\, questions\, or concerns</b> about current industry topics. Whether 
 you have specific issues to raise or simply want to stay in touch with the
  latest developments\, this is your space to be heard and get involved.</p
 >\n\n<p><b>Discussion topics will be shared ahead of the session</b>\, but
  we encourage open conversation and member-led dialogue throughout.</p>\n\
 n<h4><strong>Event Details:</strong></h4>\n\n<p>📅 <b>Date</b>: Wednesda
 y 26 November 2025<br />\n🕒 <b>Time</b>: 15:00&ndash\;15:45 GMT<br />\n
 📍 <b>Location</b>: Zoom<br />\n📧 Contact: Lisa Jupp at <a href="mail
 to:ljupp@britishmarine.co.uk">ljupp@britishmarine.co.uk</a></p>\n\n<p>Drop
  in\, share your insights\, and help shape the future of the commercial ma
 rine sector.</p>\n</HTML>
CREATED;TZID=Europe/London:20251111T100532
URL;VALUE=URI:https://www.britishmarine.co.uk/membership/events-and-courses
 /commercial-marine-member-drop-session
DTSTART;TZID=Europe/London:20251126T000000
DTEND;TZID=Europe/London:20251126T235959
SEQUENCE:0
END:VEVENT
END:VCALENDAR
