BEGIN:VCALENDAR
VERSION:2.0
PRODID:-//Sabre//Sabre VObject 4.5.7//EN
CALSCALE:GREGORIAN
BEGIN:VEVENT
UID:sabre-vobject-4021b932-af4f-4bec-9912-e9989517acd7
DTSTAMP:20260421T180930Z
SUMMARY:British Marine South & IOW Rum Regatta VIP Balcony Experience
DESCRIPTION:Set Sail in Style with Mount Gay Rum at Cowes Week\n\nJoin us f
 or an exclusive evening on the private balcony at Cowes Yacht Haven\, perf
 ectly positioned to soak up the iconic Cowes Week atmosphere. As the sun s
 ets on the Mount Gay Apres Sail event\, this members exclusive experience 
 includes two complimentary drinks per guest to toast the sailing spirit in
  style\, as well as a choice of food being served at the event.\n\n&nbsp\;
 \n\nEat\, drink and be merry &mdash\; all while enjoying unbeatable views 
 and great company.\n\n&nbsp\;\n\nThanks to our partnership with FlexiSail\
 , guests can choose to travel in style from Hamble to Cowes by RIB. This h
 igh-speed\, fun\, and convenient transfer is subsidised by British Marine 
 South and Isle of Wight\, making it available for a small additional fee. 
 Arrive right in the heart of Cowes Week and start the evening with a splas
 h!\n\n&nbsp\;\n\nSpaces are limited. Don&rsquo\;t miss the boat\, book now
  before the rum is gone.\n
X-ALT-DESC:FMTTYPE=text/html:<!DOCTYPE HTML PUBLIC "-//W3C//DTD HTML 3.2//E
 N"><HTML><p><strong><strong>Set Sail in Style with Mount Gay Rum at Cowes 
 Week</strong></strong></p>\n\n<p>Join us for an exclusive evening on the p
 rivate balcony at Cowes Yacht Haven\, perfectly positioned to soak up the 
 iconic Cowes Week atmosphere. As the sun sets on the Mount Gay Apres Sail 
 event\, this members exclusive experience includes two complimentary drink
 s per guest to toast the sailing spirit in style\, as well as a choice of 
 food being served at the event.</p>\n\n<p>&nbsp\;</p>\n\n<p>Eat\, drink an
 d be merry &mdash\; all while enjoying unbeatable views and great company.
 </p>\n\n<p>&nbsp\;</p>\n\n<p>Thanks to our partnership with FlexiSail\, gu
 ests can choose to travel in style from Hamble to Cowes by RIB. This high-
 speed\, fun\, and convenient transfer is subsidised by British Marine Sout
 h and Isle of Wight\, making it available for a small additional fee. Arri
 ve right in the heart of Cowes Week and start the evening with a splash!</
 p>\n\n<p>&nbsp\;</p>\n\n<p><a href="https://www.eventbrite.com/e/british-m
 arine-south-iow-rum-regatta-vip-balcony-experience-tickets-1490683587739?a
 ff=oddtdtcreator">Spaces are limited. Don&rsquo\;t miss the boat\, book no
 w before the rum is gone.</a></p>\n</HTML>
CREATED;TZID=Europe/London:20250730T165548
URL;VALUE=URI:https://www.britishmarine.co.uk/membership/events-and-courses
 /british-marine-south-and-iow-rum-regatta-vip-balcony-experience
DTSTART;TZID=Europe/London:20250807T180000
DTEND;TZID=Europe/London:20250807T190000
SEQUENCE:0
END:VEVENT
END:VCALENDAR
