BEGIN:VCALENDAR
VERSION:2.0
PRODID:-//Sabre//Sabre VObject 4.5.7//EN
CALSCALE:GREGORIAN
BEGIN:VEVENT
UID:sabre-vobject-035a74eb-ed47-4a9e-a441-e22ae18c14b4
DTSTAMP:20260421T180432Z
SUMMARY:British Marine South & Isle of Wight Drop-In Session
DESCRIPTION:Date &amp\; Time:\nThursday\, 30 October 2025\n3:00 &ndash\; 4:
 30 PM\n\nLocation:\nOnline via Zoom\nJoin the session here &raquo\;&nbsp\;
 https://us02web.zoom.us/j/83277911489?pwd=CLI4gxZ22pu6KlNHXFRNJw9QQusnu9.1
 \n\nEvent Description:\nJoin us for an informal South &amp\; Isle of Wight
  Drop-In Session focused on &ldquo\;How to Get the Most Out of Your Member
 ship.&rdquo\;\n\nThis interactive online session is open to all South &amp
 \; Isle of Wight members and provides an opportunity to:\n\n\n	Discover ho
 w to make the most of your British Marine membership benefits\n	Hear direc
 tly from Committee members about their experiences and advice\n	Ask questi
 ons and share feedback in a relaxed\, open setting\n\n\n\nWhether you&rsqu
 o\;re a new member or have been part of the association for some time\, th
 is drop-in is a great way to connect\, learn\, and explore the full value 
 of your membership.\n\nYou&rsquo\;re welcome to join at any time during th
 e 90-minute session.\n\nWe look forward to seeing you there!\n
X-ALT-DESC:FMTTYPE=text/html:<!DOCTYPE HTML PUBLIC "-//W3C//DTD HTML 3.2//E
 N"><HTML><p><strong>Date &amp\; Time:</strong><br />\nThursday\, 30 Octobe
 r 2025<br />\n3:00 &ndash\; 4:30 PM<br />\n<br />\n<strong>Location:</stro
 ng><br />\nOnline via Zoom<br />\nJoin the session here &raquo\;&nbsp\;<a 
 href="https://us02web.zoom.us/j/83277911489?pwd=CLI4gxZ22pu6KlNHXFRNJw9QQu
 snu9.1">https://us02web.zoom.us/j/83277911489?pwd=CLI4gxZ22pu6KlNHXFRNJw9Q
 Qusnu9.1</a><br />\n<br />\n<strong>Event Description:</strong><br />\nJoi
 n us for an informal South &amp\; Isle of Wight Drop-In Session focused on
  &ldquo\;How to Get the Most Out of Your Membership.&rdquo\;<br />\n<br />
 \nThis interactive online session is open to all South &amp\; Isle of Wigh
 t members and provides an opportunity to:</p>\n\n<ul>\n	<li>Discover how t
 o make the most of your British Marine membership benefits</li>\n	<li>Hear
  directly from Committee members about their experiences and advice</li>\n
 	<li>Ask questions and share feedback in a relaxed\, open setting</li>\n</
 ul>\n\n<p><br />\nWhether you&rsquo\;re a new member or have been part of 
 the association for some time\, this drop-in is a great way to connect\, l
 earn\, and explore the full value of your membership.<br />\n<br />\nYou&r
 squo\;re welcome to join at any time during the 90-minute session.<br />\n
 <br />\nWe look forward to seeing you there!</p>\n</HTML>
CREATED;TZID=Europe/London:20251022T101116
URL;VALUE=URI:https://www.britishmarine.co.uk/membership/events-and-courses
 /british-marine-south-and-isle-wight-drop-session
DTSTART;TZID=Europe/London:20251030T150000
DTEND;TZID=Europe/London:20251030T163000
SEQUENCE:0
END:VEVENT
END:VCALENDAR
