BEGIN:VCALENDAR
VERSION:2.0
PRODID:-//Sabre//Sabre VObject 4.5.7//EN
CALSCALE:GREGORIAN
BEGIN:VEVENT
UID:sabre-vobject-42e4fe12-e7f4-4d04-a915-1bfb08920f07
DTSTAMP:20260421T180219Z
SUMMARY:TYHA Board & Council Meeting
DESCRIPTION:
X-ALT-DESC:FMTTYPE=text/html:<!DOCTYPE HTML PUBLIC "-//W3C//DTD HTML 3.2//E
 N"><HTML></HTML>
CREATED;TZID=Europe/London:20251030T151547
URL;VALUE=URI:https://www.britishmarine.co.uk/membership/events-and-courses
 /tyha-board-and-council-meeting-4
DTSTART;TZID=Europe/London:20260304T093000
DTEND;TZID=Europe/London:20260304T140000
SEQUENCE:0
END:VEVENT
END:VCALENDAR
