BEGIN:VCALENDAR
VERSION:2.0
PRODID:-//Sabre//Sabre VObject 4.5.7//EN
CALSCALE:GREGORIAN
BEGIN:VEVENT
UID:sabre-vobject-c649f00c-f11b-49cb-a749-0ffa33f1f463
DTSTAMP:20260421T175805Z
SUMMARY:TYHA Board / Council / AGM
DESCRIPTION:
X-ALT-DESC:FMTTYPE=text/html:<!DOCTYPE HTML PUBLIC "-//W3C//DTD HTML 3.2//E
 N"><HTML></HTML>
CREATED;TZID=Europe/London:20251030T151756
URL;VALUE=URI:https://www.britishmarine.co.uk/membership/events-and-courses
 /tyha-board-council-agm
DTSTART;TZID=Europe/London:20260603T093000
DTEND;TZID=Europe/London:20260603T140000
SEQUENCE:0
END:VEVENT
END:VCALENDAR
