BEGIN:VCALENDAR
VERSION:2.0
PRODID:-//Sabre//Sabre VObject 4.5.7//EN
CALSCALE:GREGORIAN
BEGIN:VEVENT
UID:sabre-vobject-1b33552c-2289-4670-a94e-5f10f90726ef
DTSTAMP:20260421T180407Z
SUMMARY:TYHA Board & Council Meeting 
DESCRIPTION:
X-ALT-DESC:FMTTYPE=text/html:<!DOCTYPE HTML PUBLIC "-//W3C//DTD HTML 3.2//E
 N"><HTML></HTML>
CREATED;TZID=Europe/London:20251030T151848
URL;VALUE=URI:https://www.britishmarine.co.uk/membership/events-and-courses
 /tyha-board-and-council-meeting-5
DTSTART;TZID=Europe/London:20261111T093000
DTEND;TZID=Europe/London:20261111T140000
SEQUENCE:0
END:VEVENT
END:VCALENDAR
