BEGIN:VCALENDAR
VERSION:2.0
PRODID:-//Sabre//Sabre VObject 4.5.7//EN
CALSCALE:GREGORIAN
BEGIN:VEVENT
UID:sabre-vobject-089cdfa0-e09f-45aa-8115-b3961cddfbbf
DTSTAMP:20260421T180406Z
SUMMARY:TYHA Council Christmas Lunch
DESCRIPTION:
X-ALT-DESC:FMTTYPE=text/html:<!DOCTYPE HTML PUBLIC "-//W3C//DTD HTML 3.2//E
 N"><HTML></HTML>
CREATED;TZID=Europe/London:20251030T152209
URL;VALUE=URI:https://www.britishmarine.co.uk/membership/events-and-courses
 /tyha-council-christmas-lunch
DTSTART;TZID=Europe/London:20261204T123000
DTEND;TZID=Europe/London:20261204T200000
SEQUENCE:0
END:VEVENT
END:VCALENDAR
