BEGIN:VCALENDAR
VERSION:2.0
PRODID:-//Sabre//Sabre VObject 4.5.7//EN
CALSCALE:GREGORIAN
BEGIN:VEVENT
UID:sabre-vobject-c53f2497-9e32-4824-af48-b2617c09d113
DTSTAMP:20260421T180732Z
SUMMARY:British Marine London & Thames Valley Committee Meeting
DESCRIPTION:
X-ALT-DESC:FMTTYPE=text/html:<!DOCTYPE HTML PUBLIC "-//W3C//DTD HTML 3.2//E
 N"><HTML></HTML>
CREATED;TZID=Europe/London:20260209T141503
URL;VALUE=URI:https://www.britishmarine.co.uk/membership/events-and-courses
 /british-marine-london-and-thames-valley-committee-meeting-4
DTSTART;TZID=Europe/London:20260318T130000
DTEND;TZID=Europe/London:20260318T150000
SEQUENCE:0
END:VEVENT
END:VCALENDAR
