BEGIN:VCALENDAR
VERSION:2.0
PRODID:-//Sabre//Sabre VObject 4.5.7//EN
CALSCALE:GREGORIAN
BEGIN:VEVENT
UID:sabre-vobject-906ec684-9dc1-4717-87f8-f71d240ba22d
DTSTAMP:20260421T181537Z
SUMMARY:British Marine London & Thames Valley Committee Meeting - Online
DESCRIPTION:
X-ALT-DESC:FMTTYPE=text/html:<!DOCTYPE HTML PUBLIC "-//W3C//DTD HTML 3.2//E
 N"><HTML></HTML>
CREATED;TZID=Europe/London:20251030T152520
URL;VALUE=URI:https://www.britishmarine.co.uk/membership/events-and-courses
 /british-marine-london-and-thames-valley-committee-meeting-online
DTSTART;TZID=Europe/London:20260811T100000
DTEND;TZID=Europe/London:20260811T140000
SEQUENCE:0
END:VEVENT
END:VCALENDAR
