BEGIN:VCALENDAR
VERSION:2.0
PRODID:-//Sabre//Sabre VObject 4.5.7//EN
CALSCALE:GREGORIAN
BEGIN:VEVENT
UID:sabre-vobject-4fc87451-749e-403c-875d-fcd379fdf369
DTSTAMP:20260421T181450Z
SUMMARY:TYHA Marina of the Year Awards sponsored by Haven Knox-Johnston
DESCRIPTION:
X-ALT-DESC:FMTTYPE=text/html:<!DOCTYPE HTML PUBLIC "-//W3C//DTD HTML 3.2//E
 N"><HTML></HTML>
CREATED;TZID=Europe/London:20251030T152646
URL;VALUE=URI:https://www.britishmarine.co.uk/membership/events-and-courses
 /tyha-marina-year-awards-sponsored-haven-knox-johnston
DTSTART;TZID=Europe/London:20260923T160000
DTEND;TZID=Europe/London:20260923T170000
SEQUENCE:0
END:VEVENT
END:VCALENDAR
