BEGIN:VCALENDAR
VERSION:2.0
PRODID:-//Sabre//Sabre VObject 4.5.7//EN
CALSCALE:GREGORIAN
BEGIN:VEVENT
UID:sabre-vobject-4a7dbeb6-1912-4282-8ed6-1ca6c4feadd6
DTSTAMP:20260421T180320Z
SUMMARY:TYHA stand party sponsored by IGY Marinas 
DESCRIPTION:
X-ALT-DESC:FMTTYPE=text/html:<!DOCTYPE HTML PUBLIC "-//W3C//DTD HTML 3.2//E
 N"><HTML></HTML>
CREATED;TZID=Europe/London:20251030T152735
URL;VALUE=URI:https://www.britishmarine.co.uk/membership/events-and-courses
 /tyha-stand-party-sponsored-igy-marinas
DTSTART;TZID=Europe/London:20260923T170000
DTEND;TZID=Europe/London:20260923T190000
SEQUENCE:0
END:VEVENT
END:VCALENDAR
