BEGIN:VCALENDAR
VERSION:2.0
PRODID:-//Sabre//Sabre VObject 4.5.7//EN
CALSCALE:GREGORIAN
BEGIN:VEVENT
UID:sabre-vobject-69048d8a-aabd-44ac-baa1-2ffc0c3c4e45
DTSTAMP:20260421T180716Z
SUMMARY:British Marine London & Thames Valley Committee Meeting
DESCRIPTION:
X-ALT-DESC:FMTTYPE=text/html:<!DOCTYPE HTML PUBLIC "-//W3C//DTD HTML 3.2//E
 N"><HTML></HTML>
CREATED;TZID=Europe/London:20251030T152918
URL;VALUE=URI:https://www.britishmarine.co.uk/membership/events-and-courses
 /british-marine-london-and-thames-valley-committee-meeting-5
DTSTART;TZID=Europe/London:20261104T100000
DTEND;TZID=Europe/London:20261104T140000
SEQUENCE:0
END:VEVENT
END:VCALENDAR
