BEGIN:VCALENDAR
VERSION:2.0
PRODID:-//Sabre//Sabre VObject 4.5.7//EN
CALSCALE:GREGORIAN
BEGIN:VEVENT
UID:sabre-vobject-cd8b95f4-0ffd-4728-900d-27f25964da4c
DTSTAMP:20260421T180249Z
SUMMARY:TYHA Fore & Aft Magazine - March 2026 Edition
DESCRIPTION:
X-ALT-DESC:FMTTYPE=text/html:<!DOCTYPE HTML PUBLIC "-//W3C//DTD HTML 3.2//E
 N"><HTML></HTML>
CREATED;TZID=Europe/London:20251030T153541
URL;VALUE=URI:https://www.britishmarine.co.uk/membership/events-and-courses
 /tyha-fore-and-aft-magazine-march-2026-edition
DTSTART;TZID=Europe/London:20260302T000000
DTEND;TZID=Europe/London:20260302T235959
SEQUENCE:0
END:VEVENT
END:VCALENDAR
