BEGIN:VCALENDAR
VERSION:2.0
PRODID:-//Sabre//Sabre VObject 4.5.7//EN
CALSCALE:GREGORIAN
BEGIN:VEVENT
UID:sabre-vobject-8980e864-58f9-4748-9664-db553ee62762
DTSTAMP:20260421T181156Z
SUMMARY:TYHA Fore & Aft Magazine - June 2026 Edition
DESCRIPTION:
X-ALT-DESC:FMTTYPE=text/html:<!DOCTYPE HTML PUBLIC "-//W3C//DTD HTML 3.2//E
 N"><HTML></HTML>
CREATED;TZID=Europe/London:20251030T153609
URL;VALUE=URI:https://www.britishmarine.co.uk/membership/events-and-courses
 /tyha-fore-and-aft-magazine-june-2026-edition
DTSTART;TZID=Europe/London:20260601T000000
DTEND;TZID=Europe/London:20260601T235959
SEQUENCE:0
END:VEVENT
END:VCALENDAR
