BEGIN:VCALENDAR
VERSION:2.0
PRODID:-//Sabre//Sabre VObject 4.5.7//EN
CALSCALE:GREGORIAN
BEGIN:VEVENT
UID:sabre-vobject-1e758408-f668-4239-b447-2532cc47d4c3
DTSTAMP:20260421T180717Z
SUMMARY:TYHA Fore & Aft Magazine - September 2026 Edition
DESCRIPTION:
X-ALT-DESC:FMTTYPE=text/html:<!DOCTYPE HTML PUBLIC "-//W3C//DTD HTML 3.2//E
 N"><HTML></HTML>
CREATED;TZID=Europe/London:20251030T153637
URL;VALUE=URI:https://www.britishmarine.co.uk/membership/events-and-courses
 /tyha-fore-and-aft-magazine-september-2026-edition
DTSTART;TZID=Europe/London:20260901T000000
DTEND;TZID=Europe/London:20260901T235959
SEQUENCE:0
END:VEVENT
END:VCALENDAR
