BEGIN:VCALENDAR
VERSION:2.0
PRODID:-//Sabre//Sabre VObject 4.5.7//EN
CALSCALE:GREGORIAN
BEGIN:VEVENT
UID:sabre-vobject-6c969d4f-9118-43da-b76d-272ba98654d3
DTSTAMP:20260421T180433Z
SUMMARY:TYHA Fore & Aft Magazine - December 2026 Edition
DESCRIPTION:
X-ALT-DESC:FMTTYPE=text/html:<!DOCTYPE HTML PUBLIC "-//W3C//DTD HTML 3.2//E
 N"><HTML></HTML>
CREATED;TZID=Europe/London:20251030T153703
URL;VALUE=URI:https://www.britishmarine.co.uk/membership/events-and-courses
 /tyha-fore-and-aft-magazine-december-2026-edition
DTSTART;TZID=Europe/London:20261201T000000
DTEND;TZID=Europe/London:20261201T235959
SEQUENCE:0
END:VEVENT
END:VCALENDAR
