BEGIN:VCALENDAR
VERSION:2.0
PRODID:-//Sabre//Sabre VObject 4.5.7//EN
CALSCALE:GREGORIAN
BEGIN:VEVENT
UID:sabre-vobject-7accf06f-9388-41de-ba21-041665671bf3
DTSTAMP:20260421T181245Z
SUMMARY:British Marine Superyacht UK Christmas Lunch 2025
DESCRIPTION:Celebrate the festive season with Superyacht UK at our 2025 Chr
 istmas Lunch\, an afternoon of networking\, fine food\, and seasonal cheer
 .\n\nWhether you&rsquo\;re a member or new to the community\, this is the 
 perfect opportunity to reconnect with colleagues\, make new contacts\, and
  toast to another successful year in the superyacht sector. Enjoy a two- o
 r three-course meal and a complimentary welcome drink\, with the bar open 
 throughout for those who want to continue the festivities.\n\nSpaces are l
 imited\, so book early to secure your place at what promises to be a memor
 able and festive celebration.\n\nEvent Details:\n\n📅 Date: Thursday 4 D
 ecember 2025\n🕒 Time: 12:30&ndash\;16:30 GMT\n📍 Location: Harper&rsq
 uo\;s Steakhouse &amp\; Bar\, Swanwick Marina\, 286 Bridge Road\, Lower Sw
 anwick SO31 7EB\n\nJoin us for an afternoon of great food\, good company\,
  and festive celebration &mdash\; book your spot today!\n\n\n👉&nbsp\;Bo
 ok your place today\n&nbsp\;\n\nFor further details\, please contact bharr
 is@britishmarine.co.uk\n
X-ALT-DESC:FMTTYPE=text/html:<!DOCTYPE HTML PUBLIC "-//W3C//DTD HTML 3.2//E
 N"><HTML><p>Celebrate the festive season with <b><a href="https://www.brit
 ishmarine.co.uk/membership/associations/superyacht-uk">Superyacht UK</a></
 b> at our <b>2025 Christmas Lunch</b>\, an afternoon of networking\, fine 
 food\, and seasonal cheer.</p>\n\n<p>Whether you&rsquo\;re a member or new
  to the community\, this is the perfect opportunity to <b>reconnect with c
 olleagues\, make new contacts</b>\, and toast to another successful year i
 n the superyacht sector. Enjoy a <b>two- or three-course meal</b> and a <b
 >complimentary welcome drink</b>\, with the bar open throughout for those 
 who want to continue the festivities.</p>\n\n<p>Spaces are limited\, so bo
 ok early to secure your place at what promises to be a <b>memorable and fe
 stive celebration</b>.</p>\n\n<h4>Event Details:</h4>\n\n<p>📅 <b>Date:<
 /b> Thursday 4 December 2025<br />\n🕒 <b>Time:</b> 12:30&ndash\;16:30 G
 MT<br />\n📍 <b>Location:</b> Harper&rsquo\;s Steakhouse &amp\; Bar\, Sw
 anwick Marina\, 286 Bridge Road\, Lower Swanwick SO31 7EB</p>\n\n<p><b>Joi
 n us for an afternoon of great food\, good company\, and festive celebrati
 on &mdash\; book your spot today!</b></p>\n\n<h4><br />\n👉&nbsp\;<a dat
 a-auth="NotApplicable" data-linkindex="0" href="https://www.eventbrite.com
 /e/british-marine-superyacht-uk-christmas-lunch-2025-tickets-1914946298929
 ?aff=oddtdtcreator" title="https://www.eventbrite.com/e/british-marine-sup
 eryacht-uk-christmas-lunch-2025-tickets-1914946298929?aff=oddtdtcreator">B
 ook your place today</a><br />\n&nbsp\;</h4>\n\n<p>For further details\, p
 lease contact <a href="http://bharris@britishmarine.co.uk">bharris@british
 marine.co.uk</a></p>\n</HTML>
CREATED;TZID=Europe/London:20251111T111510
URL;VALUE=URI:https://www.britishmarine.co.uk/membership/events-and-courses
 /british-marine-superyacht-uk-christmas-lunch-2025
DTSTART;TZID=Europe/London:20251204T123000
DTEND;TZID=Europe/London:20251204T163000
SEQUENCE:0
END:VEVENT
END:VCALENDAR
