BEGIN:VCALENDAR
VERSION:2.0
PRODID:-//Sabre//Sabre VObject 4.5.7//EN
CALSCALE:GREGORIAN
BEGIN:VEVENT
UID:sabre-vobject-aaafd385-881f-44d9-a65c-14f6d4db30a8
DTSTAMP:20260421T180407Z
SUMMARY:BRBA Webinar: VAT - what do you need to know?
DESCRIPTION:Hosted by the British Marine Boat Retailers &amp\; Brokers Asso
 ciation (BRBA) and the Association of Brokers and Yacht Agents (ABYA)\n\nU
 ntangle the complexities of VAT in the marine sector with expert guidance 
 from leading specialists at PKF Francis Clark.\n\nWhether you&rsquo\;re bu
 ying\, selling\, or brokering boats\, VAT can often feel like navigating t
 hrough uncharted waters. This free\, one-hour session will provide clarity
  and confidence\, helping you understand your obligations\, avoid costly m
 istakes\, and ensure compliance &ndash\; whatever your role in the marine 
 industry.\n\nJoin us as PKF Francis Clark&#39\;s Joe Francis and Richard P
 hillips share their expertise\, break down real-world examples\, and answe
 r your most pressing questions.\n\nDon&rsquo\;t miss this essential sessio
 n designed to help marine professionals stay ahead of the curve.\n\nEvent 
 Details:\n\n📅 Date: 25 November 2025\n🕰️ Time: 10:00&ndash\;11:00 
 GMT\n📍 Location: Online\n\nReserve your FREE place today and get VAT-sa
 vvy!\n\nBook here:&nbsp\;Webinar: VAT &ndash\; What Do You Need to Know? \
 n
X-ALT-DESC:FMTTYPE=text/html:<!DOCTYPE HTML PUBLIC "-//W3C//DTD HTML 3.2//E
 N"><HTML><p>Hosted by the <a href="https://www.britishmarine.co.uk/members
 hip/associations/british-marine-boat-retailers-and-brokers-association">Br
 itish Marine Boat Retailers &amp\; Brokers Association (BRBA)</a> and the 
 <a href="https://abya.co.uk/">Association of Brokers and Yacht Agents (ABY
 A)</a></p>\n\n<p>Untangle the complexities of VAT in the marine sector wit
 h expert guidance from leading specialists at <a href="https://pkf-francis
 clark.co.uk/">PKF Francis Clark.</a></p>\n\n<p>Whether you&rsquo\;re buyin
 g\, selling\, or brokering boats\, VAT can often feel like navigating thro
 ugh uncharted waters. This free\, one-hour session will provide clarity an
 d confidence\, helping you understand your obligations\, avoid costly mist
 akes\, and ensure compliance &ndash\; whatever your role in the marine ind
 ustry.</p>\n\n<p>Join us as PKF Francis Clark&#39\;s Joe Francis and Richa
 rd Phillips share their expertise\, break down real-world examples\, and a
 nswer your most pressing questions.</p>\n\n<p>Don&rsquo\;t miss this essen
 tial session designed to help marine professionals stay ahead of the curve
 .</p>\n\n<h4>Event Details:</h4>\n\n<p>📅 <b>Date:</b> 25 November 2025<
 br />\n🕰️ <b>Time:</b> 10:00&ndash\;11:00 GMT<br />\n📍 <b>Location
 :</b> Online</p>\n\n<p><strong>Reserve your FREE place today and get VAT-s
 avvy!</strong></p>\n\n<h4><span style="color:#c0392b\;"><strong>Book here:
 </strong>&nbsp\;</span><a href="https://www.eventbrite.co.uk/e/webinar-vat
 -what-do-you-need-to-know-tickets-1965357811119?aff=oddtdtcreator">Webinar
 : VAT &ndash\; What Do You Need to Know? </a></h4>\n</HTML>
CREATED;TZID=Europe/London:20251216T145040
URL;VALUE=URI:https://www.britishmarine.co.uk/membership/events-and-courses
 /brba-webinar-vat-what-do-you-need-know
DTSTART;TZID=Europe/London:20251127T100000
DTEND;TZID=Europe/London:20251127T110000
SEQUENCE:0
END:VEVENT
END:VCALENDAR
