BEGIN:VCALENDAR
VERSION:2.0
PRODID:-//Sabre//Sabre VObject 4.5.7//EN
CALSCALE:GREGORIAN
BEGIN:VEVENT
UID:sabre-vobject-837c5f07-d9c2-4b09-9816-37f0b73d39ea
DTSTAMP:20260421T180433Z
SUMMARY:BRBA Webinar: ABYA/BRBA Joint contract Q&A
DESCRIPTION:Hosted by British Marine Boat Retailers &amp\; Brokers Associat
 ion (BRBA) and the Association of Brokers and Yacht Agents (ABYA).\n\nJoin
  us for a dynamic and interactive open forum exploring the latest updates 
 and practical applications of the ABYA/BRBA Joint Contract.\n\nThis sessio
 n is the perfect opportunity to hear from experienced industry professiona
 ls\, gain clarity on contract best practice\, and discuss real-world scena
 rios with your peers.\n\nBring your questions\, share your experiences\, a
 nd take away valuable insights to support your day-to-day business operati
 ons.\n\nEvent Details:\n\n📅 Date: Wednesday 27 November\n\n🕒 Time: 1
 0am &ndash\; 11am GMT\n\n📍 Location: Online\n\nReserve your free space 
 today and be part of the conversation.\n\nBook here:&nbsp\;Webinar: ABYA/B
 RBA Joint Contract Open Forum \n
X-ALT-DESC:FMTTYPE=text/html:<!DOCTYPE HTML PUBLIC "-//W3C//DTD HTML 3.2//E
 N"><HTML><p>Hosted by <a href="https://www.britishmarine.co.uk/membership/
 associations/british-marine-boat-retailers-and-brokers-association">Britis
 h Marine Boat Retailers &amp\; Brokers Association (BRBA)</a> and the <a h
 ref="https://abya.co.uk/">Association of Brokers and Yacht Agents (ABYA)</
 a>.</p>\n\n<p>Join us for a <b>dynamic and interactive open forum</b> expl
 oring the <b>latest updates and practical applications</b> of the ABYA/BRB
 A Joint Contract.</p>\n\n<p>This session is the perfect opportunity to <b>
 hear from experienced industry professionals</b>\, gain clarity on contrac
 t best practice\, and <b>discuss real-world scenarios</b> with your peers.
 </p>\n\n<p>Bring your questions\, share your experiences\, and take away v
 aluable insights to support your day-to-day business operations.</p>\n\n<h
 4>Event Details:</h4>\n\n<p>📅 <b>Date:</b> Wednesday 27 November</p>\n\
 n<p>🕒 <b>Time:</b> 10am &ndash\; 11am GMT</p>\n\n<p>📍 <b>Location:</
 b> Online</p>\n\n<p>Reserve your free space today and be part of the conve
 rsation.</p>\n\n<h4><span style="color:#c0392b\;">Book here:</span>&nbsp\;
 <a href="https://www.eventbrite.com/e/webinar-abyabrba-joint-contract-open
 -forum-tickets-1965395908068?aff=odcleoeventsincollection&amp\;keep_tld=1"
 >Webinar: ABYA/BRBA Joint Contract Open Forum </a></h4>\n</HTML>
CREATED;TZID=Europe/London:20251216T145055
URL;VALUE=URI:https://www.britishmarine.co.uk/membership/events-and-courses
 /brba-webinar-abyabrba-joint-contract-q-and-1
DTSTART;TZID=Europe/London:20251211T100000
DTEND;TZID=Europe/London:20251211T110000
SEQUENCE:0
END:VEVENT
END:VCALENDAR
