BEGIN:VCALENDAR
VERSION:2.0
PRODID:-//Sabre//Sabre VObject 4.5.7//EN
CALSCALE:GREGORIAN
BEGIN:VEVENT
UID:sabre-vobject-73dd9554-6955-48e0-ae70-5fef83b7d02b
DTSTAMP:20260421T180250Z
SUMMARY:BRBA Webinar: Client Accounts
DESCRIPTION:Hosted by British Marine Boat Retailers &amp\; Brokers Associat
 ion (BRBA) and the Association of Brokers and Yacht Agents (ABYA).\n\nMana
 ging client accounts can be a complex and high-stakes part of running a br
 okerage business\,&nbsp\;but it doesn&rsquo\;t have to be.\n\nJoin this fo
 cused webinar to gain clear\, practical guidance on best practices\, compl
 iance requirements\, and how to avoid common pitfalls when managing client
  funds. Led by experienced industry professionals\, the session will give 
 you the tools and confidence to strengthen your financial processes and st
 ay compliant.\n\nThis is a must-attend for brokers and agents looking to t
 ighten their operations and safeguard client trust.\n\nEvent Details:\n\n
 📅 Date: Tuesday 2 December 2025\n🕒 Time: 10:00&ndash\;11:00 GMT\n
 📍 Location: Online\n🎤 Speakers: Brian Clark (British Marine) &amp\; 
 TBC (ABYA)\n\nStay informed\, stay compliant - and make managing client ac
 counts simpler and smarter.\n\nReserve your free space here:&nbsp\;Webinar
 : Client Accounts\n
X-ALT-DESC:FMTTYPE=text/html:<!DOCTYPE HTML PUBLIC "-//W3C//DTD HTML 3.2//E
 N"><HTML><p>Hosted by <a href="https://www.britishmarine.co.uk/membership/
 associations/british-marine-boat-retailers-and-brokers-association">Britis
 h Marine Boat Retailers &amp\; Brokers Association (BRBA)</a> and the <a h
 ref="https://abya.co.uk/">Association of Brokers and Yacht Agents (ABYA)</
 a>.</p>\n\n<p>Managing client accounts can be a <b>complex and high-stakes
  part of running a brokerage business\,</b>&nbsp\;but it doesn&rsquo\;t ha
 ve to be.</p>\n\n<p>Join this focused webinar to gain clear\, practical gu
 idance on <b>best practices\, compliance requirements\, and how to avoid c
 ommon pitfalls</b> when managing client funds. Led by experienced industry
  professionals\, the session will give you the tools and confidence to str
 engthen your financial processes and stay compliant.</p>\n\n<p>This is a <
 b>must-attend for brokers and agents</b> looking to tighten their operatio
 ns and safeguard client trust.</p>\n\n<h4>Event Details:</h4>\n\n<p>📅 <
 b>Date:</b> Tuesday 2 December 2025<br />\n🕒 <b>Time:</b> 10:00&ndash\;
 11:00 GMT<br />\n📍 <b>Location:</b> Online<br />\n🎤 <b>Speakers:</b>
  Brian Clark (British Marine) &amp\; TBC (ABYA)</p>\n\n<p>Stay informed\, 
 stay compliant - and make managing client accounts simpler and smarter.</p
 >\n\n<h4><span style="color:#c0392b\;">Reserve your free space here:</span
 >&nbsp\;<a href="https://www.eventbrite.com/e/webinar-client-accounts-tick
 ets-1965407973155?aff=odcleoeventsincollection&amp\;keep_tld=1">Webinar: C
 lient Accounts</a></h4>\n</HTML>
CREATED;TZID=Europe/London:20251111T160035
URL;VALUE=URI:https://www.britishmarine.co.uk/membership/events-and-courses
 /brba-webinar-client-accounts
DTSTART;TZID=Europe/London:20251202T100000
DTEND;TZID=Europe/London:20251202T110000
SEQUENCE:0
END:VEVENT
END:VCALENDAR
