BEGIN:VCALENDAR
VERSION:2.0
PRODID:-//Sabre//Sabre VObject 4.5.7//EN
CALSCALE:GREGORIAN
BEGIN:VEVENT
UID:sabre-vobject-a99528b6-8d80-4fca-bd96-c4ea313a8968
DTSTAMP:20260421T181225Z
SUMMARY:BRBA Webinar: Custom Agents Collective on Temporary Admission and 1
 2 Mile Limit
DESCRIPTION:Hosted by British Marine Boat Retailers &amp\; Brokers Associat
 ion (BRBA) and the Association of Brokers and Yacht Agents (ABYA).\n\nGain
  expert clarity on the complex rules around Temporary Admission and the 12
 -mile limit in this essential international webinar for brokers\, agents\,
  and marine professionals.\n\nJoin a panel of customs and logistics specia
 lists from across Europe as they unpack key regulations\, share country-sp
 ecific perspectives\, and answer your questions about cross-border yacht m
 ovements and customs procedures. Whether you regularly manage internationa
 l transactions or simply want to deepen your understanding of import/expor
 t compliance\, this session is not to be missed.\n\nEvent Details:\n\n📅
  Date: Thursday 4 December 2025\n🕒 Time: 10:00&ndash\;11:00 GMT\n📍 L
 ocation: Online\n🎤 Speakers:\n\n\n	Olivier Hurtado\, Mathez Freight (Fr
 ance)\n	Damir Borčić\, Primaco (Croatia)\n	Charlie Mulligan\, Wispex (UK
 )\n	Bea Alonso\, Evolution Agents (Spain)\n\n\nJoin us to navigate customs
  with confidence and ensure smooth sailing for your clients and business.\
 n\nBook your FREE space here:&nbsp\;Webinar: Custom Agents Collective on T
 emporary Admission and 12 Mile Limit \n
X-ALT-DESC:FMTTYPE=text/html:<!DOCTYPE HTML PUBLIC "-//W3C//DTD HTML 3.2//E
 N"><HTML><p>Hosted by <a href="https://www.britishmarine.co.uk/membership/
 associations/british-marine-boat-retailers-and-brokers-association">Britis
 h Marine Boat Retailers &amp\; Brokers Association (BRBA)</a> and the <a h
 ref="https://abya.co.uk/">Association of Brokers and Yacht Agents (ABYA)</
 a>.</p>\n\n<p>Gain expert clarity on the complex rules around <b>Temporary
  Admission</b> and the <b>12-mile limit</b> in this essential internationa
 l webinar for brokers\, agents\, and marine professionals.</p>\n\n<p>Join 
 a panel of <b>customs and logistics specialists from across Europe</b> as 
 they unpack key regulations\, share country-specific perspectives\, and an
 swer your questions about cross-border yacht movements and customs procedu
 res. Whether you regularly manage international transactions or simply wan
 t to deepen your understanding of import/export compliance\, this session 
 is not to be missed.</p>\n\n<h4>Event Details:</h4>\n\n<p>📅 <b>Date:</b
 > Thursday 4 December 2025<br />\n🕒 <b>Time:</b> 10:00&ndash\;11:00 GMT
 <br />\n📍 <b>Location:</b> Online<br />\n🎤 <b>Speakers:</b></p>\n\n<
 ul class="arrowed-bullet" type="disc">\n	<li><b>Olivier Hurtado</b>\, Math
 ez Freight (France)</li>\n	<li><b>Damir Borčić</b>\, Primaco (Croatia)</
 li>\n	<li><b>Charlie Mulligan</b>\, Wispex (UK)</li>\n	<li><b>Bea Alonso</
 b>\, Evolution Agents (Spain)</li>\n</ul>\n\n<p>Join us to navigate custom
 s with confidence and ensure smooth sailing for your clients and business.
 </p>\n\n<h4><span style="color:#c0392b\;">Book your FREE space here:</span
 >&nbsp\;<a href="https://www.eventbrite.com/e/webinar-custom-agents-collec
 tive-on-temporary-admission-and-12-mile-limit-tickets-1965413620045?aff=od
 cleoeventsincollection&amp\;keep_tld=1">Webinar: Custom Agents Collective 
 on Temporary Admission and 12 Mile Limit </a></h4>\n</HTML>
CREATED;TZID=Europe/London:20251111T160104
URL;VALUE=URI:https://www.britishmarine.co.uk/membership/events-and-courses
 /brba-webinar-custom-agents-collective-temporary-admission-and-12-mile-lim
 it
DTSTART;TZID=Europe/London:20251204T100000
DTEND;TZID=Europe/London:20251204T110000
SEQUENCE:0
END:VEVENT
END:VCALENDAR
